Workbook

Sheet политики+програми
A3: Отчет за изпълнението на бюджета с тримесечна информация за разходите по бюджетни програми по бюджета
A4: на МИНИСТЕРСТВО НА КУЛТУРАТА към 30.06.2024 г.
A5: (наименование на бюджетната организация) (отчетен период)
A7: Отчет на разходите по области на политики/функционални области и бюджетни програми
A8: към 30.06.2024 г.
A9: (отчетен период)
A10: (в лева) | H10: (в лева)
A11: Класификационен код* | B11: Наименование на областта на политика/функционалната област /бюджетната програма | C11: Закон 2024 | D11: Уточнен план 2024 г. | E11: Отчет | F11: Отчет | G11: Отчет | H11: Отчет
E12: към | F12: към | G12: към | H12: към
E13: 31 март 2024 г. | F13: 30 юни 2024 г. | G13: 30 септември 2024 г. | H13: 31 декември 2024 г.
A14: 1800.01.00 | B14: Политика в областта на опазване на движимото и недвижимото културно наследство | C14: =+C15+C16 -> 27790200 | D14: =+D15+D16 -> 34991000 | E14: =+E15+E16 -> 6599250 | F14: =+F15+F16 -> 14919224 | G14: =+G15+G16 -> 0 | H14: =+H15+H16 -> 0
A15: 1800.01.01 | B15: Бюджетна програма „Опазване на недвижимото културно наследство“ | C15: =Програми!C25 -> 5310700 | D15: =Програми!D25 -> 6497604 | E15: =Програми!E25 -> 1044008 | F15: =Програми!F25 -> 2491658 | G15: =Програми!G25 -> 0 | H15: =Програми!H25 -> 0
A16: 1800.01.02 | B16: Бюджетна програма „Опазване и представяне на движимото културно наследство и визуалните изкуства“ | C16: =Програми!C45 -> 22479500 | D16: =Програми!D45 -> 28493396 | E16: =Програми!E45 -> 5555242 | F16: =Програми!F45 -> 12427566 | G16: =Програми!G45 -> 0 | H16: =Програми!H45 -> 0
A18: 1800.02.00 | B18: Политика в областта на създаване и популяризиране на съвременно изкуство в страната и в чужбина и достъп до качествено художествено образование | C18: =SUM(C19:C26) -> 370687000 | D18: =SUM(D19:D26) -> 424982903 | E18: =SUM(E19:E26) -> 90955132 | F18: =SUM(F19:F26) -> 195963600 | G18: =SUM(G19:G26) -> 0 | H18: =SUM(H19:H26) -> 0
A19: 1800.02.01 | B19: Бюджетна програма „Национален фонд „Култура“ | C19: =Програми!C63 -> 9260600 | D19: =Програми!D63 -> 9278484 | E19: =Програми!E63 -> 17067 | F19: =Програми!F63 -> 440085 | G19: =Програми!G63 -> 0 | H19: =Програми!H63 -> 0
A20: 1800.02.02 | B20: Бюджетна програма „Филмово изкуство“ | C20: =Програми!C85 -> 55341500 | D20: =Програми!D85 -> 55387350 | E20: =Програми!E85 -> 6176571 | F20: =Програми!F85 -> 18541263 | G20: =Програми!G85 -> 0 | H20: =Програми!H85 -> 0
A21: 1800.02.03 | B21: Бюджетна програма „Сценични изкуства“ | C21: =Програми!C105 -> 203881400 | D21: =Програми!D105 -> 240446562 | E21: =Програми!E105 -> 60791336 | F21: =Програми!F105 -> 127274553 | G21: =Програми!G105 -> 0 | H21: =Програми!H105 -> 0
A22: 1800.02.04 | B22: Бюджетна програма „Фестивали, конкурси, събития и чествания“ | C22: =Програми!C124 -> 6047700 | D22: =Програми!D124 -> 6647700 | E22: =Програми!E124 -> 2317921 | F22: =Програми!F124 -> 4149233 | G22: =Програми!G124 -> 0 | H22: =Програми!H124 -> 0
A23: 1800.02.05 | B23: Бюджетна програма „Авторско право и сродните му права“ | C23: =Програми!C142 -> 577800 | D23: =Програми!D142 -> 681840 | E23: =Програми!E142 -> 141531 | F23: =Програми!F142 -> 408943 | G23: =Програми!G142 -> 0 | H23: =Програми!H142 -> 0
A24: 1800.02.06 | B24: Бюджетна програма „Подпомагане развитието на българската култура и изкуства, на българския книжен сектор, библиотеки и читалища“ | C24: =Програми!C170 -> 12042000 | D24: =Програми!D170 -> 13917000 | E24: =Програми!E170 -> 2168867 | F24: =Програми!F170 -> 4611901 | G24: =Програми!G170 -> 0 | H24: =Програми!H170 -> 0
A25: 1800.02.07 | B25: Бюджетна програма „Популяризиране на българската култура в чужбина“ | C25: =Програми!C190 -> 6344600 | D25: =Програми!D190 -> 10485900 | E25: =Програми!E190 -> 1204528 | F25: =Програми!F190 -> 2410235 | G25: =Програми!G190 -> 0 | H25: =Програми!H190 -> 0
A26: 1800.02.08 | B26: Бюджетна програма „Обучение на кадри в областта на изкуството и културата“ | C26: =Програми!C209 -> 77191400 | D26: =Програми!D209 -> 88138067 | E26: =Програми!E209 -> 18137311 | F26: =Програми!F209 -> 38127387 | G26: =Програми!G209 -> 0 | H26: =Програми!H209 -> 0
A28: 1800.03.00 | B28: Бюджетна програма „Администрация“ | C28: =Програми!C228 -> 4873300 | D28: =Програми!D228 -> 7529035 | E28: =Програми!E228 -> 2085762 | F28: =Програми!F228 -> 4287100 | G28: =Програми!G228 -> 0 | H28: =Програми!H228 -> 0
B29: Общо разходи | C29: =+C28+C18+C14 -> 403350500 | D29: =+D28+D18+D14 -> 467502938 | E29: =+E28+E18+E14 -> 99640144 | F29: =+F28+F18+F14 -> 215169924 | G29: =+G28+G18+G14 -> 0 | H29: =+H28+H18+H14 -> 0
A31: * Класификационен код съгласно Решение № 780 на Министерския съвет от 2023 г.

Sheet Програми
B3: Отчет на ведомствените и администрираните разходи по бюджетни програми
B4: към 31.06.2024 г.
B5: на МИНИСТЕРСТВО НА КУЛТУРАТА
B6: 1800.01.01 - Бюджетна програма „Опазване на недвижимото културно наследство“
B7: Разходи по бюджетната програма | C7: Закон 2024 | D7: Уточнен план 2024 г. | E7: Отчет | F7: Отчет | G7: Отчет | H7: Отчет
B8: (в лева) | E8: към | F8: към | G8: към | H8: към
E9: 31 март 2024 г. | F9: 30 юни 2024 г. | G9: 30 септември 2024 г. | H9: 31 декември 2024 г.
B10: I. Ведомствени разходи по бюджета | C10: =+C12+C13+C14 -> 5078000 | D10: =+D12+D13+D14 -> 6075480 | E10: =+E12+E13+E14 -> 890799 | F10: =+F12+F13+F14 -> 2220464 | G10: =+G12+G13+G14 -> 0 | H10: =+H12+H13+H14 -> 0
B11: от тях за:
B12: Персонал | C12: 3579700 | D12: 4558380 | E12: 738643 | F12: 1811855
B13: Издръжка | C13: 1498300 | D13: 1494300 | E13: 152156 | F13: 408609
B14: Капиталови разходи | D14: 22800
B16: II. Администрирани разходни параграфи по бюджета | C16: =+SUM(C17:C24) -> 232700 | D16: =+SUM(D17:D24) -> 422124 | E16: =+SUM(E17:E24) -> 153209 | F16: =+SUM(F17:F24) -> 271194 | G16: =+SUM(G17:G24) -> 0 | H16: =+SUM(H17:H24) -> 0
B17: от тях:
B18: Персонал
B19: Издръжка | F19: 29946
B20: Теренни археологически проучвания и теренна консервация на недвижими археологически културни ценности - Закон за културното наследство | D20: 8127
B21: Консервационно-реставрационни работи за създаване и опазване на културните ценности - Закон за културното наследство | D21: 177297 | E21: =12432+42977 -> 55409 | F21: 62917
B22: Членски внос и участие в нетърговски организации и дейности в областта на недвижимото културно наследство | C22: 6700 | D22: 10700 | F22: 10531
B23: Субсидия за Националния дарителски фонд „13 века България“ | C23: 226000 | D23: 226000 | E23: 75000 | F23: 145000
B24: Капиталови разходи | E24: 22800 | F24: 22800
B25: Общо разходи по бюджета (I+II) | C25: =+C16+C10 -> 5310700 | D25: =+D16+D10 -> 6497604 | E25: =+E16+E10 -> 1044008 | F25: =+F16+F10 -> 2491658 | G25: =+G16+G10 -> 0 | H25: =+H16+H10 -> 0
B27: Численост на щатния персонал | C27: 94 | D27: 94 | E27: 83 | F27: 81
B29: 1800.01.02 - Бюджетна програма „Опазване и представяне на движимото културно наследство и визуалните изкуства“
B30: Разходи по бюджетната програма | C30: Закон 2024 | D30: Уточнен план 2024 г. | E30: Отчет | F30: Отчет | G30: Отчет | H30: Отчет
B31: (в лева) | E31: към | F31: към | G31: към | H31: към
E32: 31 март 2024 г. | F32: 30 юни 2024 г. | G32: 30 септември 2024 г. | H32: 31 декември 2024 г.
B33: I. Ведомствени разходи по бюджета | C33: =+C35+C36+C37 -> 20934700 | D33: =+D35+D36+D37 -> 25248596 | E33: =+E35+E36+E37 -> 5554175 | F33: =+F35+F36+F37 -> 12426499 | G33: =+G35+G36+G37 -> 0 | H33: =+H35+H36+H37 -> 0
B34: от тях за:
B35: Персонал | C35: 12642400 | D35: 15018296 | E35: 3589699 | F35: 8228502
B36: Издръжка | C36: 8292300 | D36: 9483418 | E36: 1823751 | F36: 3601591
B37: Капиталови разходи | D37: 746882 | E37: 140725 | F37: 596406
B39: II. Администрирани разходни параграфи по бюджета | C39: =C41+C42+SUM(C43+C44) -> 1544800 | D39: =D41+D42+SUM(D43+D44) -> 3244800 | E39: =E41+E42+SUM(E43+E44) -> 1067 | F39: =F41+F42+SUM(F43+F44) -> 1067 | G39: =G41+G42+SUM(G43+G44) -> 0 | H39: =H41+H42+SUM(H43+H44) -> 0
B40: от тях:
B41: Персонал
B42: Издръжка
B43: Разходи за членски внос и участие в нетърговски организации и дейности в областта на движимото културно наследство | C43: 4800 | D43: 4800
B44: Субсидии за творчески проекти и други разходи в областта на движимото културно наследство и визуалните изкуства на основание ЗЗРК и ЗКН | C44: 1540000 | D44: 3240000 | E44: 1067 | F44: 1067
B45: Общо разходи по бюджета (I+II) | C45: =+C39+C33 -> 22479500 | D45: =+D39+D33 -> 28493396 | E45: =+E39+E33 -> 5555242 | F45: =+F39+F33 -> 12427566 | G45: =+G39+G33 -> 0 | H45: =+H39+H33 -> 0
B47: Численост на щатния персонал | C47: 14 | D47: 14 | E47: 14 | F47: 13
B49: 1800.02.01 - Бюджетна програма „Национален фонд „Култура“
B50: Разходи по бюджетната програма | C50: Закон 2024 | D50: Уточнен план 2024 г. | E50: Отчет | F50: Отчет | G50: Отчет | H50: Отчет
B51: (в лева) | E51: към | F51: към | G51: към | H51: към
E52: 31 март 2024 г. | F52: 30 юни 2024 г. | G52: 30 септември 2024 г. | H52: 31 декември 2024 г.
B53: I. Ведомствени разходи по бюджета | C53: =+C55+C56+C57 -> 660600 | D53: =+D55+D56+D57 -> 660600 | E53: =+E55+E56+E57 -> 111511 | F53: =+F55+F56+F57 -> 272340 | G53: =+G55+G56+G57 -> 0 | H53: =+H55+H56+H57 -> 0
B54: от тях за:
B55: Персонал | C55: 520800 | D55: 520800 | E55: 97905 | F55: 227023
B56: Издръжка | C56: 139800 | D56: 139800 | E56: 13606 | F56: 45317
B57: Капиталови разходи
B59: II. Администрирани разходни параграфи по бюджета | C59: =C60+C61 -> 8600000 | D59: =D60+D61 -> 8617884 | E59: =E60+E61 -> -94444 | F59: =F60+F61 -> 167745 | G59: =G60+G61 -> 0 | H59: =H60+H61 -> 0
B60: от тях:
B61: Субсидии за творчески проекти и други разходи за създаване, съхраняване и разпространение на произведения на изкуството и културата и за опазване и популяризиране на културно-историческото наследство на основание ЗЗРК | C61: 8600000 | D61: 8617884 | E61: -94444 | F61: 167745
B63: Общо разходи по бюджета (I+II) | C63: =+C59+C53 -> 9260600 | D63: =+D59+D53 -> 9278484 | E63: =+E59+E53 -> 17067 | F63: =+F59+F53 -> 440085 | G63: =+G59+G53 -> 0 | H63: =+H59+H53 -> 0
B65: Численост на щатния персонал | C65: 11 | D65: 11 | E65: 11 | F65: 11
B67: 1800.02.02 - Бюджетна програма „Филмово изкуство“
B68: Разходи по бюджетната програма | C68: Закон 2024 | D68: Уточнен план 2024 г. | E68: Отчет | F68: Отчет | G68: Отчет | H68: Отчет
B69: (в лева) | E69: към | F69: към | G69: към | H69: към
E70: 31 март 2024 г. | F70: 30 юни 2024 г. | G70: 30 септември 2024 г. | H70: 31 декември 2024 г.
B71: I. Ведомствени разходи по бюджета | C71: =+C73+C74+C75 -> 1721700 | D71: =+D73+D74+D75 -> 1767550 | E71: =+E73+E74+E75 -> 454618 | F71: =+F73+F74+F75 -> 854518 | G71: =+G73+G74+G75 -> 0 | H71: =+H73+H74+H75 -> 0
B72: от тях за:
B73: Персонал | C73: 997400 | D73: 1040800 | E73: 210663 | F73: 470344
B74: Издръжка | C74: 724300 | D74: 726750 | E74: 243955 | F74: 384174
B75: Капиталови разходи
B77: II. Администрирани разходни параграфи по бюджета | C77: =C79+C80 -> 53619800 | D77: =D79+D80 -> 53619800 | E77: =E79+E80 -> 5721953 | F77: =F79+F80 -> 17686745 | G77: =G79+G80 -> 0 | H77: =H79+H80 -> 0
B78: от тях:
B79: Членски внос в областта на филмовото изкуство (Европейски фонд „Евроимаж“ и Европейската аудиовизуална обсерватория) | C79: 297800 | D79: 297800 | E79: 237105 | F79: 441640
B80: Субсидии за творчески проекти за създаване и разпространение на български филми и копродукции с българско участие на основание ЗФИ, в т. ч.: | C80: =SUM(C81:C83) -> 53322000 | D80: =SUM(D81:D83) -> 53322000 | E80: =SUM(E81:E83) -> 5484848 | F80: =SUM(F81:F83) -> 17245105 | G80: =SUM(G81:G83) -> 0 | H80: =SUM(H81:H83) -> 0
B81: Субсидии за творчески проекти – за създаване и разпространение на български филми и копродукции с българско участие на основание ЗФИ (Схеми по чл. 26, ал. 1, т.1, т. 3, т.4 и т. 5) | C81: 30781000 | D81: 30781000 | E81: 3823804 | F81: 10160844
B82: Субсидия за схема за държавна помощ за проекти за възстановяване на разходи за производство на филми на основание на ЗФИ (Схема по чл. 26, ал. 1, т. 2) | C82: 20095300 | D82: 20095300 | E82: 1501044 | F82: 6924261
B83: Субсидия за схема за държавна помощ за проекти за създаване на сериали на основание на ЗФИ (Схема по чл. 26, ал. 1, т. 6) | C83: 2445700 | D83: 2445700 | E83: 160000 | F83: 160000
B85: Общо разходи по бюджета (I+II) | C85: =+C77+C71 -> 55341500 | D85: =+D77+D71 -> 55387350 | E85: =+E77+E71 -> 6176571 | F85: =+F77+F71 -> 18541263 | G85: =+G77+G71 -> 0 | H85: =+H77+H71 -> 0
B87: Численост на щатния персонал | C87: 13 | D87: 13 | E87: 13 | F87: 13
B89: 1800.02.03 - Бюджетна програма „Сценични изкуства“
B90: Разходи по бюджетната програма | C90: Закон 2024 | D90: Уточнен план 2024 г. | E90: Отчет | F90: Отчет | G90: Отчет | H90: Отчет
B91: (в лева) | E91: към | F91: към | G91: към | H91: към
E92: 31 март 2024 г. | F92: 30 юни 2024 г. | G92: 30 септември 2024 г. | H92: 31 декември 2024 г.
B93: I. Ведомствени разходи по бюджета | C93: =+C95+C96+C97 -> 200630700 | D93: =+D95+D96+D97 -> 232733684 | E93: =+E95+E96+E97 -> 60608651 | F93: =+F95+F96+F97 -> 126698750 | G93: =+G95+G96+G97 -> 0 | H93: =+H95+H96+H97 -> 0
B94: от тях за:
B95: Персонал | C95: 121411900 | D95: 121965194 | E95: 42216221 | F95: 89958502
B96: Издръжка | C96: 79218800 | D96: 107201715 | E96: 17226213 | F96: 33981065
B97: Капиталови разходи | D97: 3566775 | E97: 1166217 | F97: 2759183
B99: II. Администрирани разходни параграфи по бюджета | C99: =+C102+C103 -> 3250700 | D99: =+D102+D103+D104 -> 7712878 | E99: =+E102+E103+E104 -> 182685 | F99: =F101+F102+F103+F104 -> 575803 | G99: =+G102+G103+G104 -> 0 | H99: =+H102+H103+H104 -> 0
B100: от тях:
B101: Персонал | F101: 1696
B102: Членски внос в областта на сценичните изкуства (Международната организация на куклените театри) | C102: 700 | D102: 900 | F102: 900
B103: Субсидии за творчески проекти и други разходи за финансово подпомагане създаването и разпространението на сценични произведения на основание ЗЗРК | C103: 3250000 | D103: 7649800 | E103: 155709 | F103: 493791
B104: Капиталови разходи | D104: 62178 | E104: 26976 | F104: 79416
B105: Общо разходи по бюджета (I+II) | C105: =+C99+C93 -> 203881400 | D105: =+D99+D93 -> 240446562 | E105: =+E99+E93 -> 60791336 | F105: =+F99+F93 -> 127274553 | G105: =+G99+G93 -> 0 | H105: =+H99+H93 -> 0
B107: Численост на щатния персонал
B109: 1800.02.04 - Бюджетна програма „Фестивали, конкурси, събития и чествания“
B110: Разходи по бюджетната програма | C110: Закон 2024 | D110: Уточнен план 2024 г. | E110: Отчет | F110: Отчет | G110: Отчет | H110: Отчет
B111: (в лева) | E111: към | F111: към | G111: към | H111: към
E112: 31 март 2024 г. | F112: 30 юни 2024 г. | G112: 30 септември 2024 г. | H112: 31 декември 2024 г.
B113: I. Ведомствени разходи по бюджета | C113: =+C115+C116+C117 -> 3182500 | D113: =+D115+D116+D117 -> 502500 | E113: =+E115+E116+E117 -> 0 | F113: =+F115+F116+F117 -> 0 | G113: =+G115+G116+G117 -> 0 | H113: =+H115+H116+H117 -> 0
B114: от тях за:
B115: Персонал
B116: Издръжка | C116: 3182500 | D116: 502500
B117: Капиталови разходи
B119: II. Администрирани разходни параграфи по бюджета | C119: =C121+C122+C123 -> 2865200 | D119: =D121+D122+D123 -> 6145200 | E119: =E121+E122+E123 -> 2317921 | F119: =F121+F122+F123 -> 4149233 | G119: =G121+G122+G123 -> 0 | H119: =H121+H122+H123 -> 0
B120: от тях:
...
