Workbook

Sheet политики+програми
A3: Отчет за изпълнението на бюджета с тримесечна информация за разходите по бюджетни програми по бюджета
A4: на МИНИСТЕРСТВО НА КУЛТУРАТА към 30.06.2024 г.
A5: (наименование на бюджетната организация) (отчетен период)
A7: Отчет на разходите по области на политики/функционални области и бюджетни програми
A8: към 30.06.2024 г.
A9: (отчетен период)
A10: (в лева) | H10: (в лева)
A11: Класификационен код* | B11: Наименование на областта на политика/функционалната област /бюджетната програма | C11: Закон 2024 | D11: Уточнен план 2024 г. | E11: Отчет | F11: Отчет | G11: Отчет | H11: Отчет
E12: към | F12: към | G12: към | H12: към
E13: 31 март 2024 г. | F13: 30 юни 2024 г. | G13: 30 септември 2024 г. | H13: 31 декември 2024 г.
A14: 1800.01.00 | B14: Политика в областта на опазване на движимото и недвижимото културно наследство | C14: =+C15+C16 -> 27790200 | D14: =+D15+D16 -> 34991000 | E14: =+E15+E16 -> 6599250 | F14: =+F15+F16 -> 14919224 | G14: =+G15+G16 -> 0 | H14: =+H15+H16 -> 0
A15: 1800.01.01 | B15: Бюджетна програма „Опазване на недвижимото културно наследство“ | C15: =Програми!C25 -> 5310700 | D15: =Програми!D25 -> 6497604 | E15: =Програми!E25 -> 1044008 | F15: =Програми!F25 -> 2491658 | G15: =Програми!G25 -> 0 | H15: =Програми!H25 -> 0
A16: 1800.01.02 | B16: Бюджетна програма „Опазване и представяне на движимото културно наследство и визуалните изкуства“ | C16: =Програми!C45 -> 22479500 | D16: =Програми!D45 -> 28493396 | E16: =Програми!E45 -> 5555242 | F16: =Програми!F45 -> 12427566 | G16: =Програми!G45 -> 0 | H16: =Програми!H45 -> 0
A18: 1800.02.00 | B18: Политика в областта на създаване и популяризиране на съвременно изкуство в страната и в чужбина и достъп до качествено художествено образование | C18: =SUM(C19:C26) -> 370687000 | D18: =SUM(D19:D26) -> 424982903 | E18: =SUM(E19:E26) -> 90955132 | F18: =SUM(F19:F26) -> 195963600 | G18: =SUM(G19:G26) -> 0 | H18: =SUM(H19:H26) -> 0
A19: 1800.02.01 | B19: Бюджетна програма „Национален фонд „Култура“ | C19: =Програми!C63 -> 9260600 | D19: =Програми!D63 -> 9278484 | E19: =Програми!E63 -> 17067 | F19: =Програми!F63 -> 440085 | G19: =Програми!G63 -> 0 | H19: =Програми!H63 -> 0
A20: 1800.02.02 | B20: Бюджетна програма „Филмово изкуство“ | C20: =Програми!C85 -> 55341500 | D20: =Програми!D85 -> 55387350 | E20: =Програми!E85 -> 6176571 | F20: =Програми!F85 -> 18541263 | G20: =Програми!G85 -> 0 | H20: =Програми!H85 -> 0
A21: 1800.02.03 | B21: Бюджетна програма „Сценични изкуства“ | C21: =Програми!C105 -> 203881400 | D21: =Програми!D105 -> 240446562 | E21: =Програми!E105 -> 60791336 | F21: =Програми!F105 -> 127274553 | G21: =Програми!G105 -> 0 | H21: =Програми!H105 -> 0
A22: 1800.02.04 | B22: Бюджетна програма „Фестивали, конкурси, събития и чествания“ | C22: =Програми!C124 -> 6047700 | D22: =Програми!D124 -> 6647700 | E22: =Програми!E124 -> 2317921 | F22: =Програми!F124 -> 4149233 | G22: =Програми!G124 -> 0 | H22: =Програми!H124 -> 0
A23: 1800.02.05 | B23: Бюджетна програма „Авторско право и сродните му права“ | C23: =Програми!C142 -> 577800 | D23: =Програми!D142 -> 681840 | E23: =Програми!E142 -> 141531 | F23: =Програми!F142 -> 408943 | G23: =Програми!G142 -> 0 | H23: =Програми!H142 -> 0
A24: 1800.02.06 | B24: Бюджетна програма „Подпомагане развитието на българската култура и изкуства, на българския книжен сектор, библиотеки и читалища“ | C24: =Програми!C170 -> 12042000 | D24: =Програми!D170 -> 13917000 | E24: =Програми!E170 -> 2168867 | F24: =Програми!F170 -> 4611901 | G24: =Програми!G170 -> 0 | H24: =Програми!H170 -> 0
A25: 1800.02.07 | B25: Бюджетна програма „Популяризиране на българската култура в чужбина“ | C25: =Програми!C190 -> 6344600 | D25: =Програми!D190 -> 10485900 | E25: =Програми!E190 -> 1204528 | F25: =Програми!F190 -> 2410235 | G25: =Програми!G190 -> 0 | H25: =Програми!H190 -> 0
A26: 1800.02.08 | B26: Бюджетна програма „Обучение на кадри в областта на изкуството и културата“ | C26: =Програми!C209 -> 77191400 | D26: =Програми!D209 -> 88138067 | E26: =Програми!E209 -> 18137311 | F26: =Програми!F209 -> 38127387 | G26: =Програми!G209 -> 0 | H26: =Програми!H209 -> 0
A28: 1800.03.00 | B28: Бюджетна програма „Администрация“ | C28: =Програми!C228 -> 4873300 | D28: =Програми!D228 -> 7529035 | E28: =Програми!E228 -> 2085762 | F28: =Програми!F228 -> 4287100 | G28: =Програми!G228 -> 0 | H28: =Програми!H228 -> 0
B29: Общо разходи | C29: =+C28+C18+C14 -> 403350500 | D29: =+D28+D18+D14 -> 467502938 | E29: =+E28+E18+E14 -> 99640144 | F29: =+F28+F18+F14 -> 215169924 | G29: =+G28+G18+G14 -> 0 | H29: =+H28+H18+H14 -> 0
A31: * Класификационен код съгласно Решение № 780 на Министерския съвет от 2023 г.

Sheet Програми
B3: Отчет на ведомствените и администрираните разходи по бюджетни програми
B4: към 31.06.2024 г.
B5: на МИНИСТЕРСТВО НА КУЛТУРАТА
B6: 1800.01.01 - Бюджетна програма „Опазване на недвижимото културно наследство“
B7: Разходи по бюджетната програма | C7: Закон 2024 | D7: Уточнен план 2024 г. | E7: Отчет | F7: Отчет | G7: Отчет | H7: Отчет
B8: (в лева) | E8: към | F8: към | G8: към | H8: към
E9: 31 март 2024 г. | F9: 30 юни 2024 г. | G9: 30 септември 2024 г. | H9: 31 декември 2024 г.
B10: I. Ведомствени разходи по бюджета | C10: =+C12+C13+C14 -> 5078000 | D10: =+D12+D13+D14 -> 6075480 | E10: =+E12+E13+E14 -> 890799 | F10: =+F12+F13+F14 -> 2220464 | G10: =+G12+G13+G14 -> 0 | H10: =+H12+H13+H14 -> 0
B11: от тях за:
B12: Персонал | C12: 3579700 | D12: 4558380 | E12: 738643 | F12: 1811855
B13: Издръжка | C13: 1498300 | D13: 1494300 | E13: 152156 | F13: 408609
B14: Капиталови разходи | D14: 22800
B16: II. Администрирани разходни параграфи по бюджета | C16: =+SUM(C17:C24) -> 232700 | D16: =+SUM(D17:D24) -> 422124 | E16: =+SUM(E17:E24) -> 153209 | F16: =+SUM(F17:F24) -> 271194 | G16: =+SUM(G17:G24) -> 0 | H16: =+SUM(H17:H24) -> 0
B17: от тях:
B18: Персонал
B19: Издръжка | F19: 29946
B20: Теренни археологически проучвания и теренна консервация на недвижими археологически културни ценности - Закон за културното наследство | D20: 8127
B21: Консервационно-реставрационни работи за създаване и опазване на културните ценности - Закон за културното наследство | D21: 177297 | E21: =12432+42977 -> 55409 | F21: 62917
B22: Членски внос и участие в нетърговски организации и дейности в областта на недвижимото културно наследство | C22: 6700 | D22: 10700 | F22: 10531
B23: Субсидия за Националния дарителски фонд „13 века България“ | C23: 226000 | D23: 226000 | E23: 75000 | F23: 145000
B24: Капиталови разходи | E24: 22800 | F24: 22800
B25: Общо разходи по бюджета (I+II) | C25: =+C16+C10 -> 5310700 | D25: =+D16+D10 -> 6497604 | E25: =+E16+E10 -> 1044008 | F25: =+F16+F10 -> 2491658 | G25: =+G16+G10 -> 0 | H25: =+H16+H10 -> 0
B27: Численост на щатния персонал | C27: 94 | D27: 94 | E27: 83 | F27: 81
B29: 1800.01.02 - Бюджетна програма „Опазване и представяне на движимото културно наследство и визуалните изкуства“
B30: Разходи по бюджетната програма | C30: Закон 2024 | D30: Уточнен план 2024 г. | E30: Отчет | F30: Отчет | G30: Отчет | H30: Отчет
B31: (в лева) | E31: към | F31: към | G31: към | H31: към
E32: 31 март 2024 г. | F32: 30 юни 2024 г. | G32: 30 септември 2024 г. | H32: 31 декември 2024 г.
B33: I. Ведомствени разходи по бюджета | C33: =+C35+C36+C37 -> 20934700 | D33: =+D35+D36+D37 -> 25248596 | E33: =+E35+E36+E37 -> 5554175 | F33: =+F35+F36+F37 -> 12426499 | G33: =+G35+G36+G37 -> 0 | H33: =+H35+H36+H37 -> 0
B34: от тях за:
B35: Персонал | C35: 12642400 | D35: 15018296 | E35: 3589699 | F35: 8228502
B36: Издръжка | C36: 8292300 | D36: 9483418 | E36: 1823751 | F36: 3601591
B37: Капиталови разходи | D37: 746882 | E37: 140725 | F37: 596406
B39: II. Администрирани разходни параграфи по бюджета | C39: =C41+C42+SUM(C43+C44) -> 1544800 | D39: =D41+D42+SUM(D43+D44) -> 3244800 | E39: =E41+E42+SUM(E43+E44) -> 1067 | F39: =F41+F42+SUM(F43+F44) -> 1067 | G39: =G41+G42+SUM(G43+G44) -> 0 | H39: =H41+H42+SUM(H43+H44) -> 0
B40: от тях:
B41: Персонал
B42: Издръжка
B43: Разходи за членски внос и участие в нетърговски организации и дейности в областта на движимото културно наследство | C43: 4800 | D43: 4800
B44: Субсидии за творчески проекти и други разходи в областта на движимото културно наследство и визуалните изкуства на основание ЗЗРК и ЗКН | C44: 1540000 | D44: 3240000 | E44: 1067 | F44: 1067
B45: Общо разходи по бюджета (I+II) | C45: =+C39+C33 -> 22479500 | D45: =+D39+D33 -> 28493396 | E45: =+E39+E33 -> 5555242 | F45: =+F39+F33 -> 12427566 | G45: =+G39+G33 -> 0 | H45: =+H39+H33 -> 0
B47: Численост на щатния персонал | C47: 14 | D47: 14 | E47: 14 | F47: 13
...
