Workbook

Sheet ПОЛ + ПРОГ
A1: Форма за конкретизиране на показателите по отделните бюджетни програми по бюджетите на бюджетните организации, които прилагат програмен формат на бюджет
A3: Показатели по отделните бюджетни програми в рамките на утвърдените със Закона за държавния бюджет на Република България за 2024 г. (ЗДБРБ за 2024г.) разходи по области на политики/функционални области и/или бюджетни програми по бюджета на МИНИСТЕРСТВО НА КУЛТУРАТА за 2024 г.
A4: Класификационен код | B4: НАИМЕНОВАНИЕ | C4: Сума
C6: (в лева)
A7: 1800.01.00 | B7: Политика в областта на опазване на движимото и недвижимото културно наследство | C7: =C8+C9 -> 27790200
A8: 1800.01.01 | B8: Бюджетна програма „Опазване на недвижимото културно наследство“ | C8: =+Програми!C59 -> 5310700
A9: 1800.01.02 | B9: Бюджетна програма „Опазване и представяне на движимото културно наследство и визуалните изкуства“ | C9: =+Програми!C71 -> 22479500
A10: 1800.02.00 | B10: Политика в областта на създаване и популяризиране на съвременно изкуство в страната и в чужбина и достъп до качествено художествено образование | C10: =SUM(C11:C18) -> 370687000
A11: 1800.02.01 | B11: Бюджетна програма „Национален фонд „Култура“ | C11: =+Програми!C84 -> 9260600
A12: 1800.02.02 | B12: Бюджетна програма „Филмово изкуство“ | C12: =+Програми!C99 -> 55341500
A13: 1800.02.03 | B13: Бюджетна програма „Сценични изкуства“ | C13: =+Програми!C112 -> 203881400
A14: 1800.02.04 | B14: Бюджетна програма „Фестивали, конкурси, събития и чествания“ | C14: =+Програми!C125 -> 6047700
A15: 1800.02.05 | B15: Бюджетна програма „Авторско право и сродните му права” | C15: =+Програми!C138 -> 577800
A16: 1800.02.06 | B16: Бюджетна програма „Подпомагане развитието на българската култура и изкуства, на българския книжен сектор, библиотеки и читалища“ | C16: =+Програми!C157 -> 12042000
A17: 1800.02.07 | B17: Бюджетна програма „Популяризиране на българската култура в чужбина“ | C17: =+Програми!C170 -> 6344600
A18: 1800.02.08 | B18: Бюджетна програма „Обучение на кадри в областта на изкуството и културата“ | C18: =+Програми!C183 -> 77191400
A19: 1800.03.00 | B19: Бюджетна програма „Администрация“ | C19: =+Програми!C196 -> 4873300
B21: Общо: | C21: =C7+C10+C19 -> 403350500

Sheet Програми
A3: № | B3: Показатели | C3: Сума
C4: (хил. лв.)
B5: 1 | C5: 2
A6: I. | B6: ПРИХОДИ, ПОМОЩИ И ДАРЕНИЯ | C6: =C7 -> 26000
A7: 1 | B7: Неданъчни приходи | C7: =C8+C9+C10+C11 -> 26000
A8: 1.1. | B8: Държавни такси | C8: 500
A9: 1.2. | B9: Приходи и доходи от собственост | C9: 25800
A10: 1.3. | B10: Глоби, санкции и наказателни лихви | C10: 80
A11: 1.4. | B11: Други приходи | C11: -380
A12: II. | B12: РАЗХОДИ | C12: =C13+C21 -> 194396.2
A13: 1 | B13: Текущи разходи | C13: 186741.5
B14: в т.ч.
A15: 1.1. | B15: Персонал | C15: 115649.1
A16: 1.1.1. | B16: в т.ч. Персонал без делегирани бюджети | C16: 5743.1
A17: 1.2. | B17: Субсидии и други текущи трансфери | C17: =C18+C19 -> 16500
A18: 1.2.1. | B18: Субсидии и други текущи трансфери за нефинансови предприятия | C18: 15400
A19: 1.2.2. | B19: Субсидии и други текущи трансфери за юридически лица с нестопанска цел | C19: 1100
A20: 1.3. | B20: Текущи трансфери, обезщетения и помощи за домакинствата | C20: 243.6
A21: 2 | B21: Капиталови разходи | C21: =C22 -> 7654.7
A22: 2.1. | B22: Придобиване на дълготрайни активи и основен ремонт | C22: 7654.7
A23: III. | B23: БЮДЖЕТНИ ВЗАИМООТНОШЕНИЯ (ТРАНСФЕРИ) – (+/-) | C23: =C24 -> 168396.2
A24: 1 | B24: Бюджетно взаимоотношение с централния бюджет (+/-) | C24: =C12-C6 -> 168396.2
A25: IV. | B25: БЮДЖЕТНО САЛДО (І-ІІ+ІІІ) | C25: =C12-C6-C23-C26 -> 0
A26: V. | B26: ОПЕРАЦИИ В ЧАСТТА НА ФИНАНСИРАНЕТО – НЕТО | C26: 0
A28: Разпределение на разходите по области на политики и бюджетни програми
A30: № | B30: Наименование на областта на политика/бюджетната програма | C30: Сума
C31: (хил. лв.)
B32: 1 | C32: 2
A33: 1 | B33: Политика в областта на опазване на движимото и недвижимото културно наследство | C33: 20888.8
A34: 2 | B34: Политика в областта на създаване и популяризиране на съвременно изкуство в страната и в чужбина и достъп до качествено художествено образование | C34: 168345.7
A35: 3 | B35: Бюджетна програма "Администрация" | C35: 5161.7
B36: Всичко: | C36: =SUM(C33:C35) -> 194396.2
A38: Максималните размери на ангажиментите за разходи, които могат да бъдат поети през 2019 г., и максималните размери на новите задължения за разходи, които могат да бъдат натрупани през 2019 г. от Министерството на културата
A39: № | B39: Показатели | C39: Сума
C40: (хил. лв.)
B41: 1 | C41: 2
A42: 1 | B42: Максимален размер на ангажиментите за разходи, които могат да бъдат поети през 2019 г. | C42: 78299.9
A43: 2 | B43: Максимален размер на новите задължения за разходи, които могат да бъдат натрупани през 2019 г. | C43: 78299.9
B44: РАЗПРЕДЕЛЕНИЕ НА ВЕДОМСТВЕНИТЕ И АДМИНИСТРИРАНИТЕ РАЗХОДИ ПО БЮДЖЕТНИ ПРОГРАМИ ЗА 2024 Г.
B45: МИНИСТЕРСТВО НА КУЛТУРАТА
...
