Workbook

Sheet политики+програми
A3: Отчет за изпълнението на бюджета с тримесечна информация за разходите по бюджетни програми по бюджета
A4: на МИНИСТЕРСТВО НА КУЛТУРАТА към 30.06.2023 г.
A5: (наименование на бюджетната организация) (отчетен период)
A7: Отчет на разходите по области на политики/функционални области и бюджетни програми
A8: към 30.06.2023 г.
A9: (отчетен период)
A10: (в лева) | H10: (в лева)
A11: Класификационен код* | B11: Наименование на областта на политика/функционалната област /бюджетната програма | C11: Закон 2023 | D11: Уточнен план 2023 г. | E11: Отчет | F11: Отчет | G11: Отчет | H11: Отчет
E12: към | F12: към | G12: към | H12: към
E13: 31 март 2023 г. | F13: 30 юни 2023 г. | G13: 30 септември 2023 г. | H13: 31 декември 2023 г.
A14: 1800.01.00 | B14: Политика в областта на опазване на движимото и недвижимото културно наследство | C14: =+C15+C16 -> 0 | D14: =+D15+D16 -> 0 | E14: =+E15+E16 -> 5238287 | F14: =+F15+F16 -> 10984906 | G14: =+G15+G16 -> 0 | H14: =+H15+H16 -> 0
A15: 1800.01.01 | B15: Бюджетна програма „Опазване на недвижимото културно наследство“ | E15: =+Програми!E25 -> 846686 | F15: 1850975
A16: 1800.01.02 | B16: Бюджетна програма „Опазване и представяне на движимото културно наследство и визуалните изкуства“ | E16: =+Програми!E47 -> 4391601 | F16: 9133931
A18: 1800.02.00 | B18: Политика в областта на създаване и популяризиране на съвременно изкуство в страната и в чужбина и достъп до качествено художествено образование | C18: =+C19+C20 -> 0 | D18: =+D19+D20 -> 0 | E18: =SUM(E19:E26) -> 63927046 | F18: =SUM(F19:F26) -> 141761130 | G18: =+G19+G20 -> 0 | H18: =+H19+H20 -> 0
A19: 1800.02.01 | B19: Бюджетна програма „Национален фонд „Култура“ | E19: =+Програми!E66 -> 54527 | F19: 267057
A20: 1800.02.02 | B20: Бюджетна програма „Филмово изкуство“ | E20: =+Програми!E85 -> 2276276 | F20: 7946046
A21: 1800.02.03 | B21: Бюджетна програма „Сценични изкуства“ | E21: =+Програми!E107 -> 43414403 | F21: 95364351
A22: 1800.02.04 | B22: Бюджетна програма „Фестивали, конкурси, събития и чествания“ | E22: =+Програми!E129 -> 521595 | F22: 1763786
A23: 1800.02.05 | B23: Бюджетна програма „Авторско право и сродните му права“ | E23: =+Програми!E148 -> 139750 | F23: 352160
A24: 1800.02.06 | B24: Бюджетна програма „Подпомагане развитието на българската култура и изкуства, на българския книжен сектор, библиотеки и читалища“ | E24: =+Програми!E170 -> 1753461 | F24: 3536841
A25: 1800.02.07 | B25: Бюджетна програма „Популяризиране на българската култура в чужбина“ | E25: =+Програми!E192 -> 908649 | F25: 1869349
A26: 1800.02.08 | B26: Бюджетна програма „Обучение на кадри в областта на изкуството и културата“ | E26: =+Програми!E211 -> 14858385 | F26: 30661540
A28: 1800.03.00 | B28: Бюджетна програма „Администрация“ | E28: =+Програми!E230 -> 1776736 | F28: 3524384
B29: Общо разходи | C29: =+C28+C18+C14 -> 0 | D29: =+D28+D18+D14 -> 0 | E29: =+E14+E18+E28 -> 70942069 | F29: =+F14+F18+F28 -> 156270420 | G29: =+G28+G18+G14 -> 0 | H29: =+H28+H18+H14 -> 0

Sheet Програми
B3: Отчет на ведомствените и администрираните разходи по бюджетни програми
B4: към 30.06.2023 г.
B5: на МИНИСТЕРСТВО НА КУЛТУРАТА
B6: 1800.01.01 - Бюджетна програма „Опазване на недвижимото културно наследство“
B7: Разходи по бюджетната програма | C7: Закон 2023 | D7: Уточнен план 2023 г. | E7: Отчет | F7: Отчет | G7: Отчет | H7: Отчет
B8: (в лева) | E8: към | F8: към | G8: към | H8: към
E9: 31 март 2023 г. | F9: 30 юни 2023 г. | G9: 30 септември 2023 г. | H9: 31 декември 2023 г.
B10: I. Ведомствени разходи по бюджета | C10: =+C12+C13+C14 -> 0 | D10: =+D12+D13+D14 -> 0 | E10: =+E12+E13+E14 -> 768096 | F10: =+F12+F13+F14 -> 1651323 | G10: =+G12+G13+G14 -> 0 | H10: =+H12+H13+H14 -> 0
B11: от тях за:
B12: Персонал | E12: =232928+372541 -> 605469 | F12: =496106+760731 -> 1256837
B13: Издръжка | E13: =51709+110918 -> 162627 | F13: =115968+278518 -> 394486
B14: Капиталови разходи
B16: II. Администрирани разходни параграфи по бюджета | C16: =+SUM(C17:C23) -> 0 | D16: =+SUM(D17:D23) -> 0 | E16: =+SUM(E17:E23) -> 78590 | F16: =+SUM(F17:F24) -> 199652 | G16: =+SUM(G17:G23) -> 0 | H16: =+SUM(H17:H23) -> 0
B17: от тях:
B18: Персонал
B19: Издръжка | E19: 3590 | F19: 43282
B20: Текущи трансфери, обезщетения и помощи за домакинствата
B21: Субсидии и други текущи трансфери за нефинансови предприятия
B22: Субсидии и други текущи трансфери за юридически лица с нестопанска цел / 13 века България / | E22: 75000 | F22: 143036
B23: Разходи за членски внос и участие в нетърговски организации и дейности
B24: Капиталови / КРР / | F24: 13334
B25: Общо разходи по бюджета (I+II) | C25: =+C16+C10 -> 0 | D25: =+D16+D10 -> 0 | E25: =+E16+E10 -> 846686 | F25: =+F16+F10 -> 1850975 | G25: =+G16+G10 -> 0 | H25: =+H16+H10 -> 0
B27: Численост на щатния персонал | E27: =32+50 -> 82 | F27: =30+52 -> 82
B29: 1800.01.02 - Бюджетна програма „Опазване и представяне на движимото културно наследство и визуалните изкуства“
B30: Разходи по бюджетната програма | C30: Закон 2023 | D30: Уточнен план 2023 г. | E30: Отчет | F30: Отчет | G30: Отчет | H30: Отчет
B31: (в лева) | E31: към | F31: към | G31: към | H31: към
E32: 31 март 2023 г. | F32: 30 юни 2023 г. | G32: 30 септември 2023 г. | H32: 31 декември 2023 г.
B33: I. Ведомствени разходи по бюджета | C33: =+C35+C36+C37 -> 0 | D33: =+D35+D36+D37 -> 0 | E33: =+E35+E36+E37 -> 4386448 | F33: =+F35+F36+F37 -> 9126920 | G33: =+G35+G36+G37 -> 0 | H33: =+H35+H36+H37 -> 0
B34: от тях за:
B35: Персонал | E35: =230734+2562388+149960 -> 2943082 | F35: =478977+5442685+308524 -> 6230186
B36: Издръжка | E36: =3139+1042818+61301 -> 1107258 | F36: =14048+2360976+116152 -> 2491176
B37: Капиталови разходи | E37: =334240+1868 -> 336108 | F37: =403690+1868 -> 405558
B39: II. Администрирани разходни параграфи по бюджета | C39: =+SUM(C40:C46) -> 0 | D39: =+SUM(D40:D46) -> 0 | E39: =+SUM(E40:E46) -> 5153 | F39: =+SUM(F40:F46) -> 7011 | G39: =+SUM(G40:G46) -> 0 | H39: =+SUM(H40:H46) -> 0
B40: от тях:
B41: Персонал
B42: Издръжка
B43: Текущи трансфери, обезщетения и помощи за домакинствата
B44: Субсидии и други текущи трансфери за нефинансови предприятия | F44: -7
B45: Субсидии и други текущи трансфери за юридически лица с нестопанска цел | F45: -216
B46: Разходи за членски внос и участие в нетърговски организации и дейности | E46: =500+3870+783 -> 5153 | F46: =500+4580+2154 -> 7234
...
