Workbook

Sheet политики+програми
A3: Отчет за изпълнението на бюджета с тримесечна информация за разходите по бюджетни програми по бюджета
A4: на МИНИСТЕРСТВО НА КУЛТУРАТА към 30.06.2023 г.
A5: (наименование на бюджетната организация) (отчетен период)
A7: Отчет на разходите по области на политики/функционални области и бюджетни програми
A8: към 30.06.2023 г.
A9: (отчетен период)
A10: (в лева) | H10: (в лева)
A11: Класификационен код* | B11: Наименование на областта на политика/функционалната област /бюджетната програма | C11: Закон 2023 | D11: Уточнен план 2023 г. | E11: Отчет | F11: Отчет | G11: Отчет | H11: Отчет
E12: към | F12: към | G12: към | H12: към
E13: 31 март 2023 г. | F13: 30 юни 2023 г. | G13: 30 септември 2023 г. | H13: 31 декември 2023 г.
A14: 1800.01.00 | B14: Политика в областта на опазване на движимото и недвижимото културно наследство | C14: =+C15+C16 -> 0 | D14: =+D15+D16 -> 0 | E14: =+E15+E16 -> 5238287 | F14: =+F15+F16 -> 10984906 | G14: =+G15+G16 -> 0 | H14: =+H15+H16 -> 0
A15: 1800.01.01 | B15: Бюджетна програма „Опазване на недвижимото културно наследство“ | E15: =+Програми!E25 -> 846686 | F15: 1850975
A16: 1800.01.02 | B16: Бюджетна програма „Опазване и представяне на движимото културно наследство и визуалните изкуства“ | E16: =+Програми!E47 -> 4391601 | F16: 9133931
A18: 1800.02.00 | B18: Политика в областта на създаване и популяризиране на съвременно изкуство в страната и в чужбина и достъп до качествено художествено образование | C18: =+C19+C20 -> 0 | D18: =+D19+D20 -> 0 | E18: =SUM(E19:E26) -> 63927046 | F18: =SUM(F19:F26) -> 141761130 | G18: =+G19+G20 -> 0 | H18: =+H19+H20 -> 0
A19: 1800.02.01 | B19: Бюджетна програма „Национален фонд „Култура“ | E19: =+Програми!E66 -> 54527 | F19: 267057
A20: 1800.02.02 | B20: Бюджетна програма „Филмово изкуство“ | E20: =+Програми!E85 -> 2276276 | F20: 7946046
A21: 1800.02.03 | B21: Бюджетна програма „Сценични изкуства“ | E21: =+Програми!E107 -> 43414403 | F21: 95364351
A22: 1800.02.04 | B22: Бюджетна програма „Фестивали, конкурси, събития и чествания“ | E22: =+Програми!E129 -> 521595 | F22: 1763786
A23: 1800.02.05 | B23: Бюджетна програма „Авторско право и сродните му права“ | E23: =+Програми!E148 -> 139750 | F23: 352160
A24: 1800.02.06 | B24: Бюджетна програма „Подпомагане развитието на българската култура и изкуства, на българския книжен сектор, библиотеки и читалища“ | E24: =+Програми!E170 -> 1753461 | F24: 3536841
A25: 1800.02.07 | B25: Бюджетна програма „Популяризиране на българската култура в чужбина“ | E25: =+Програми!E192 -> 908649 | F25: 1869349
A26: 1800.02.08 | B26: Бюджетна програма „Обучение на кадри в областта на изкуството и културата“ | E26: =+Програми!E211 -> 14858385 | F26: 30661540
A28: 1800.03.00 | B28: Бюджетна програма „Администрация“ | E28: =+Програми!E230 -> 1776736 | F28: 3524384
B29: Общо разходи | C29: =+C28+C18+C14 -> 0 | D29: =+D28+D18+D14 -> 0 | E29: =+E14+E18+E28 -> 70942069 | F29: =+F14+F18+F28 -> 156270420 | G29: =+G28+G18+G14 -> 0 | H29: =+H28+H18+H14 -> 0

Sheet Програми
B3: Отчет на ведомствените и администрираните разходи по бюджетни програми
B4: към 30.06.2023 г.
B5: на МИНИСТЕРСТВО НА КУЛТУРАТА
B6: 1800.01.01 - Бюджетна програма „Опазване на недвижимото културно наследство“
B7: Разходи по бюджетната програма | C7: Закон 2023 | D7: Уточнен план 2023 г. | E7: Отчет | F7: Отчет | G7: Отчет | H7: Отчет
B8: (в лева) | E8: към | F8: към | G8: към | H8: към
E9: 31 март 2023 г. | F9: 30 юни 2023 г. | G9: 30 септември 2023 г. | H9: 31 декември 2023 г.
B10: I. Ведомствени разходи по бюджета | C10: =+C12+C13+C14 -> 0 | D10: =+D12+D13+D14 -> 0 | E10: =+E12+E13+E14 -> 768096 | F10: =+F12+F13+F14 -> 1651323 | G10: =+G12+G13+G14 -> 0 | H10: =+H12+H13+H14 -> 0
B11: от тях за:
B12: Персонал | E12: =232928+372541 -> 605469 | F12: =496106+760731 -> 1256837
B13: Издръжка | E13: =51709+110918 -> 162627 | F13: =115968+278518 -> 394486
B14: Капиталови разходи
B16: II. Администрирани разходни параграфи по бюджета | C16: =+SUM(C17:C23) -> 0 | D16: =+SUM(D17:D23) -> 0 | E16: =+SUM(E17:E23) -> 78590 | F16: =+SUM(F17:F24) -> 199652 | G16: =+SUM(G17:G23) -> 0 | H16: =+SUM(H17:H23) -> 0
B17: от тях:
B18: Персонал
B19: Издръжка | E19: 3590 | F19: 43282
B20: Текущи трансфери, обезщетения и помощи за домакинствата
B21: Субсидии и други текущи трансфери за нефинансови предприятия
B22: Субсидии и други текущи трансфери за юридически лица с нестопанска цел / 13 века България / | E22: 75000 | F22: 143036
B23: Разходи за членски внос и участие в нетърговски организации и дейности
B24: Капиталови / КРР / | F24: 13334
B25: Общо разходи по бюджета (I+II) | C25: =+C16+C10 -> 0 | D25: =+D16+D10 -> 0 | E25: =+E16+E10 -> 846686 | F25: =+F16+F10 -> 1850975 | G25: =+G16+G10 -> 0 | H25: =+H16+H10 -> 0
B27: Численост на щатния персонал | E27: =32+50 -> 82 | F27: =30+52 -> 82
B29: 1800.01.02 - Бюджетна програма „Опазване и представяне на движимото културно наследство и визуалните изкуства“
B30: Разходи по бюджетната програма | C30: Закон 2023 | D30: Уточнен план 2023 г. | E30: Отчет | F30: Отчет | G30: Отчет | H30: Отчет
B31: (в лева) | E31: към | F31: към | G31: към | H31: към
E32: 31 март 2023 г. | F32: 30 юни 2023 г. | G32: 30 септември 2023 г. | H32: 31 декември 2023 г.
B33: I. Ведомствени разходи по бюджета | C33: =+C35+C36+C37 -> 0 | D33: =+D35+D36+D37 -> 0 | E33: =+E35+E36+E37 -> 4386448 | F33: =+F35+F36+F37 -> 9126920 | G33: =+G35+G36+G37 -> 0 | H33: =+H35+H36+H37 -> 0
B34: от тях за:
B35: Персонал | E35: =230734+2562388+149960 -> 2943082 | F35: =478977+5442685+308524 -> 6230186
B36: Издръжка | E36: =3139+1042818+61301 -> 1107258 | F36: =14048+2360976+116152 -> 2491176
B37: Капиталови разходи | E37: =334240+1868 -> 336108 | F37: =403690+1868 -> 405558
B39: II. Администрирани разходни параграфи по бюджета | C39: =+SUM(C40:C46) -> 0 | D39: =+SUM(D40:D46) -> 0 | E39: =+SUM(E40:E46) -> 5153 | F39: =+SUM(F40:F46) -> 7011 | G39: =+SUM(G40:G46) -> 0 | H39: =+SUM(H40:H46) -> 0
B40: от тях:
B41: Персонал
B42: Издръжка
B43: Текущи трансфери, обезщетения и помощи за домакинствата
B44: Субсидии и други текущи трансфери за нефинансови предприятия | F44: -7
B45: Субсидии и други текущи трансфери за юридически лица с нестопанска цел | F45: -216
B46: Разходи за членски внос и участие в нетърговски организации и дейности | E46: =500+3870+783 -> 5153 | F46: =500+4580+2154 -> 7234
B47: Общо разходи по бюджета (I+II) | C47: =+C39+C33 -> 0 | D47: =+D39+D33 -> 0 | E47: =+E39+E33 -> 4391601 | F47: =+F39+F33 -> 9133931 | G47: =+G39+G33 -> 0 | H47: =+H39+H33 -> 0
B49: Численост на щатния персонал | E49: 14 | F49: 14
B51: 1800.02.01 - Бюджетна програма „Национален фонд „Култура“
B52: Разходи по бюджетната програма | C52: Закон 2023 | D52: Уточнен план 2023 г. | E52: Отчет | F52: Отчет | G52: Отчет | H52: Отчет
B53: (в лева) | E53: към | F53: към | G53: към | H53: към
E54: 31 март 2023 г. | F54: 30 юни 2023 г. | G54: 30 септември 2023 г. | H54: 31 декември 2023 г.
B55: I. Ведомствени разходи по бюджета | C55: =+C57+C58+C59 -> 0 | D55: =+D57+D58+D59 -> 0 | E55: =+E57+E58+E59 -> 147488 | F55: =+F57+F58+F59 -> 413955 | G55: =+G57+G58+G59 -> 0 | H55: =+H57+H58+H59 -> 0
B56: от тях за:
B57: Персонал | E57: 128523 | F57: 350451
B58: Издръжка | E58: 18965 | F58: 63504
B59: Капиталови разходи
B61: II. Администрирани разходни параграфи по бюджета | C61: =+SUM(C62:C65) -> 0 | D61: =+SUM(D62:D65) -> 0 | E61: =+SUM(E62:E65) -> -92961 | F61: =+SUM(F62:F65) -> -146898 | G61: =+SUM(G62:G65) -> 0 | H61: =+SUM(H62:H65) -> 0
B62: от тях:
B63: Субсидии за творчески проекти и други разходи за създаване, съхраняване и разпространение на произведения на изкуството и културата и за опазване и популяризиране на културно-историческото наследство на основание ЗЗРК | E63: -92961 | F63: -146898
B64: ..............................
B66: Общо разходи по бюджета (I+II) | C66: =+C61+C55 -> 0 | D66: =+D61+D55 -> 0 | E66: =+E61+E55 -> 54527 | F66: =+F61+F55 -> 267057 | G66: =+G61+G55 -> 0 | H66: =+H61+H55 -> 0
B68: Численост на щатния персонал | E68: 10 | F68: 11
B70: 1800.02.02 - Бюджетна програма „Филмово изкуство“
B71: Разходи по бюджетната програма | C71: Закон 2023 | D71: Уточнен план 2023 г. | E71: Отчет | F71: Отчет | G71: Отчет | H71: Отчет
B72: (в лева) | E72: към | F72: към | G72: към | H72: към
E73: 31 март 2023 г. | F73: 30 юни 2023 г. | G73: 30 септември 2023 г. | H73: 31 декември 2023 г.
B74: I. Ведомствени разходи по бюджета | C74: =+C76+C77+C78 -> 0 | D74: =+D76+D77+D78 -> 0 | E74: =+E76+E77+E78 -> 298543 | F74: =+F76+F77+F78 -> 720495 | G74: =+G76+G77+G78 -> 0 | H74: =+H76+H77+H78 -> 0
B75: от тях за:
B76: Персонал | E76: 161583 | F76: 337132
B77: Издръжка | E77: 136960 | F77: 383363
B78: Капиталови разходи
B80: II. Администрирани разходни параграфи по бюджета | C80: =+SUM(C81:C84) -> 0 | D80: =+SUM(D81:D84) -> 0 | E80: =+E82+E83 -> 1977733 | F80: =+SUM(F81:F84) -> 7225551 | G80: =+SUM(G81:G84) -> 0 | H80: =+SUM(H81:H84) -> 0
B81: от тях:
B82: Субсидии и други текущи трансфери за нефинансови предприятия | E82: 1780263 | F82: 6825583
B83: Разходи за членски внос и участие в нетърговски организации и дейности | E83: 197470 | F83: 399968
B85: Общо разходи по бюджета (I+II) | C85: =+C80+C74 -> 0 | D85: =+D80+D74 -> 0 | E85: =+E80+E74 -> 2276276 | F85: =+F80+F74 -> 7946046 | G85: =+G80+G74 -> 0 | H85: =+H80+H74 -> 0
B87: Численост на щатния персонал | E87: 11 | F87: 11
B89: 1800.02.03 - Бюджетна програма „Сценични изкуства“
B90: Разходи по бюджетната програма | C90: Закон 2023 | D90: Уточнен план 2023 г. | E90: Отчет | F90: Отчет | G90: Отчет | H90: Отчет
B91: (в лева) | E91: към | F91: към | G91: към | H91: към
E92: 31 март 2023 г. | F92: 30 юни 2023 г. | G92: 30 септември 2023 г. | H92: 31 декември 2023 г.
B93: I. Ведомствени разходи по бюджета | C93: =+C95+C96+C97 -> 0 | D93: =+D95+D96+D97 -> 0 | E93: =+E95+E96+E97 -> 43385982 | F93: =+F95+F96+F97 -> 95100910 | G93: =+G95+G96+G97 -> 0 | H93: =+H95+H96+H97 -> 0
B94: от тях за:
B95: Персонал | E95: =14114069+15082549+3720054 -> 32916672 | F95: =30336646+31482646+8204324 -> 70023616
B96: Издръжка | E96: =6568397+2868745+565348 -> 10002490 | F96: =15154008+7397523+1766089-1 -> 24317619
B97: Капиталови разходи | E97: =141056+308858+16906 -> 466820 | F97: =297107+416814+45754 -> 759675
B99: II. Администрирани разходни параграфи по бюджета | C99: =+SUM(C100:C106) -> 0 | D99: =+SUM(D100:D106) -> 0 | E99: =+SUM(E100:E106) -> 28421 | F99: =+SUM(F100:F106) -> 263441 | G99: =+SUM(G100:G106) -> 0 | H99: =+SUM(H100:H106) -> 0
B100: от тях:
B101: Персонал
B102: Издръжка | F102: 73291
B103: Текущи трансфери, обезщетения и помощи за домакинствата
B104: Субсидии и други текущи трансфери за нефинансови предприятия | E104: -37 | F104: 91610
B105: Субсидии и други текущи трансфери за юридически лица с нестопанска цел | E105: -1783 | F105: 66899
B106: Разходи за членски внос и участие в нетърговски организации и дейности | E106: 30241 | F106: =900+30741 -> 31641
B107: Общо разходи по бюджета (I+II) | C107: =+C99+C93 -> 0 | D107: =+D99+D93 -> 0 | E107: =+E99+E93 -> 43414403 | F107: =+F99+F93 -> 95364351 | G107: =+G99+G93 -> 0 | H107: =+H99+H93 -> 0
B109: Численост на щатния персонал
B111: 1800.02.04 - Бюджетна програма „Фестивали, конкурси, събития и чествания“
B112: Разходи по бюджетната програма | C112: Закон 2023 | D112: Уточнен план 2023 г. | E112: Отчет | F112: Отчет | G112: Отчет | H112: Отчет
B113: (в лева) | E113: към | F113: към | G113: към | H113: към
E114: 31 март 2023 г. | F114: 30 юни 2023 г. | G114: 30 септември 2023 г. | H114: 31 декември 2023 г.
B115: I. Ведомствени разходи по бюджета | C115: =+C117+C118+C119 -> 0 | D115: =+D117+D118+D119 -> 0 | E115: =+E117+E118+E119 -> 0 | F115: =+F117+F118+F119 -> 0 | G115: =+G117+G118+G119 -> 0 | H115: =+H117+H118+H119 -> 0
B116: от тях за:
B117: Персонал
B118: Издръжка
B119: Капиталови разходи
...
