Workbook

Sheet пол+прог
A3: Отчет за изпълнението на бюджета с тримесечна информация за разходите по бюджетни програми по бюджета
A4: на МИНИСТЕРСТВО НА КУЛТУРАТА към 31.12.2018 г.
A5: (наименование на бюджетната организация) (отчетен период)
A7: Отчет на разходите по области на политики и бюджетни програми
A8: към 31.12.2018 г.
A9: (отчетен период)
A10: (в лева) | H10: (в лева)
A11: Класификационен код* | B11: Наименование на областта на политика /бюджетната програма | C11: Закон 2018 | D11: Уточнен план 2018 г. | E11: Отчет | F11: Отчет | G11: Отчет | H11: Отчет
E12: към | F12: към | G12: към | H12: към
E13: 31 март 2018 г. | F13: 30 юни 2018 г. | G13: 30 септември 2018 г. | H13: 31 декември 2018 г.
A14: 1800.01.00 | B14: Политика в областта на опазване на движимото и недвижимото културно наследство | C14: =+C15+C16 -> 18949800 | D14: =+D15+D16 -> 16757108 | E14: =+E15+E16 -> 3210204 | F14: =+F15+F16 -> 6429788 | G14: =+G15+G16 -> 10148956 | H14: =+H15+H16 -> 15335597
A15: 1800.01.01 | B15: Бюджетна програма „Опазване на недвижимото културно наследство” | C15: =+Прог!B23 -> 5486900 | D15: =+Прог!C23 -> 2988524 | E15: =+Прог!D23 -> 372375 | F15: =+Прог!E23 -> 692043 | G15: =+Прог!F23 -> 1266536 | H15: =+Прог!G23 -> 2437187
A16: 1800.01.02 | B16: Бюджетна програма „Опазване и представяне на движимото културно наследство и визуалните изкуства” | C16: =+Прог!B43 -> 13462900 | D16: =+Прог!C43 -> 13768584 | E16: =+Прог!D43 -> 2837829 | F16: =+Прог!E43 -> 5737745 | G16: =+Прог!F43 -> 8882420 | H16: =+Прог!G43 -> 12898410
A18: 1800.02.00 | B18: Политика в областта на създаване и популяризиране на съвременно изкуство в страната и в чужбина и достъп до качествено художествено образование | C18: =SUM(C19:C26) -> 151366900 | D18: =SUM(D19:D26) -> 169351834 | E18: =SUM(E19:E26) -> 38466861 | F18: =SUM(F19:F26) -> 79916097 | G18: =SUM(G19:G26) -> 116933630 | H18: =SUM(H19:H26) -> 168843261
A19: 1800.02.01 | B19: Бюджетна програма „Национален фонд „Култура” | C19: =+Прог!B63 -> 996500 | D19: =+Прог!C63 -> 1897946 | E19: =+Прог!D63 -> 644305 | F19: =+Прог!E63 -> 861841 | G19: =+Прог!F63 -> 1134656 | H19: =+Прог!G63 -> 1831449
A20: 1800.02.02 | B20: Бюджетна програма „Филмово изкуство” | C20: =+Прог!B82 -> 14415000 | D20: =+Прог!C82 -> 14385127 | E20: =+Прог!D82 -> 4214797 | F20: =+Прог!E82 -> 6765381 | G20: =+Прог!F82 -> 8201808 | H20: =+Прог!G82 -> 13874219
A21: 1800.02.03 | B21: Бюджетна програма „Сценични изкуства” | C21: =+Прог!B101 -> 91199400 | D21: =+Прог!C101 -> 102730508 | E21: =+Прог!D101 -> 23090086 | F21: =+Прог!E101 -> 50340798 | G21: =+Прог!F101 -> 75611096 | H21: =+Прог!G101 -> 105152581
A22: 1800.02.04 | B22: Бюджетна програма „Фестивали, конкурси, събития и чествания” | C22: =+Прог!B120 -> 740000 | D22: =+Прог!C120 -> 608840 | E22: =+Прог!D120 -> 179903 | F22: =+Прог!E120 -> 384653 | G22: =+Прог!F120 -> 589900 | H22: =+Прог!G120 -> 604786
A23: 1800.02.05 | B23: Бюджетна програма „Гарантиране защитата на интелектуалната собственост” | C23: =+Прог!B138 -> 459500 | D23: =+Прог!C138 -> 409158 | E23: =+Прог!D138 -> 93716 | F23: =+Прог!E138 -> 172552 | G23: =+Прог!F138 -> 258905 | H23: =+Прог!G138 -> 402999
A24: 1800.02.06 | B24: Бюджетна програма „Подпомагане развитието на българската култура и изкуства, на българския книжен сектор, библиотеки и читалища” | C24: =+Прог!B161 -> 6004000 | D24: =+Прог!C161 -> 6100695 | E24: =+Прог!D161 -> 948347 | F24: =+Прог!E161 -> 1980972 | G24: =+Прог!F161 -> 3015777 | H24: =+Прог!G161 -> 5693001
A25: 1800.02.07 | B25: Бюджетна програма „Популяризиране на българската култура в чужбина” | C25: =+Прог!B180 -> 4134400 | D25: =+Прог!C180 -> 5526443 | E25: =+Прог!D180 -> 1199127 | F25: =+Прог!E180 -> 2796426 | G25: =+Прог!F180 -> 3619784 | H25: =+Прог!G180 -> 5231662
A26: 1800.02.08 | B26: Бюджетна програма „Обучение на кадри в областта на изкуството и културата” | C26: =+Прог!B199 -> 33418100 | D26: =+Прог!C199 -> 37693117 | E26: =+Прог!D199 -> 8096580 | F26: =+Прог!E199 -> 16613474 | G26: =+Прог!F199 -> 24501704 | H26: =+Прог!G199 -> 36052564
A28: 1800.03.00 | B28: Бюджетна програма „Администрация“ | C28: =+Прог!B218 -> 4965700 | D28: =+Прог!C218 -> 4498785 | E28: =+Прог!D218 -> 1081934 | F28: =+Прог!E218 -> 2004575 | G28: =+Прог!F218 -> 2915592 | H28: =+Прог!G218 -> 4049320
B29: Общо разходи | C29: =+C28+C18+C14 -> 175282400 | D29: =+D28+D18+D14 -> 190607727 | E29: =+E28+E18+E14 -> 42758999 | F29: =+F28+F18+F14 -> 88350460 | G29: =+G28+G18+G14 -> 129998178 | H29: =+H28+H18+H14 -> 188228178
A31: * Класификационен код съгласно Решение № 502 на Министерския съвет от 2017 г.

Sheet Прог
A3: Отчет на ведомствените и администрираните разходи по бюджетни програми
A4: към 31.12.2018 г.
A5: (отчетен период)
A6: 1800.01.01 Бюджетна програма „Опазване на недвижимото културно наследство“
A7: Разходи по бюджетната програма | B7: Закон 2018 | C7: Уточнен план 2018 г. | D7: Отчет | E7: Отчет | F7: Отчет | G7: Отчет
A8: (в лева) | D8: към | E8: към | F8: към | G8: към
D9: 31 март 2018 г. | E9: 30 юни 2018 г. | F9: 30 септември 2018 г. | G9: 31 декември 2018 г.
A10: I. Ведомствени разходи по бюджета | B10: =+B12+B13+B14 -> 2483200 | C10: =+C12+C13+C14 -> 2114159 | D10: =+D12+D13+D14 -> 370005 | E10: =+E12+E13+E14 -> 686348 | F10: =+F12+F13+F14 -> 1045570 | G10: =+G12+G13+G14 -> 1992603
A11: от тях за:
A12: Персонал | B12: 959900 | C12: 1327256 | D12: 245290 | E12: 487951 | F12: 781142 | G12: 1303680
A13: Издръжка | B13: 1523300 | C13: 485269 | D13: 124715 | E13: 198397 | F13: 264428 | G13: 387289
A14: Капиталови разходи | C14: 301634 | G14: 301634
A16: II. Администрирани разходни параграфи по бюджета | B16: =+SUM(B17:B22) -> 3003700 | C16: =+SUM(C17:C22) -> 874365 | D16: =+SUM(D17:D22) -> 2370 | E16: =+SUM(E17:E22) -> 5695 | F16: =+SUM(F17:F22) -> 220966 | G16: =+SUM(G17:G22) -> 444584
A17: от тях:
A18: Разходи за членски внос и участие в нетърговски организации и дейности в областта на недвижимото културно наследство | B18: 3700 | C18: 5695 | D18: 2370 | E18: 5695 | F18: 5695 | G18: 5695
A19: Консервационно-реставрационни работи за създаване и опазване на културните ценности - Закон за културното наследство | B19: 1500000 | C19: =1500000-332444-51248-281414 -> 834894 | F19: 215271 | G19: 438889
A20: Теренни археологически проучвания и теренна консервация на недвижими археологически културни ценности - Закон за културното наследство | B20: 1500000 | C20: =1500000-1205966-101452-158956 -> 33626
A21: Теренно археологическо проучване на археолгически обект "Хераклея Синтика" | C21: 150
A23: Общо разходи по бюджета (I+II) | B23: =+B16+B10 -> 5486900 | C23: =+C16+C10 -> 2988524 | D23: =+D16+D10 -> 372375 | E23: =+E16+E10 -> 692043 | F23: =+F16+F10 -> 1266536 | G23: =+G16+G10 -> 2437187
A25: Численост на щатния персонал | B25: 60 | C25: 60 | D25: 53 | E25: 52 | F25: 52 | G25: 52
A27: 1800.01.02 Бюджетна програма „Опазване и представяне на движимото културно наследство и визуалните изкуства“
A28: Разходи по бюджетната програма | B28: Закон 2018 | C28: Уточнен план 2018 г. | D28: Отчет | E28: Отчет | F28: Отчет | G28: Отчет
A29: (в лева) | D29: към | E29: към | F29: към | G29: към
D30: 31 март 2018 г. | E30: 30 юни 2018 г. | F30: 30 септември 2018 г. | G30: 31 декември 2018 г.
A31: I. Ведомствени разходи по бюджета | B31: =+B33+B34+B35 -> 12498800 | C31: =+C33+C34+C35 -> 13117842 | D31: =+D33+D34+D35 -> 2837829 | E31: =+E33+E34+E35 -> 5736745 | F31: =+F33+F34+F35 -> 8864778 | G31: =+G33+G34+G35 -> 12725654
A32: от тях за:
A33: Персонал | B33: 6835800 | C33: 7414145 | D33: 1665523 | E33: 3447873 | F33: 5334921 | G33: 7403448
A34: Издръжка | B34: 5663000 | C34: 5108408 | D34: 1139159 | E34: 2228307 | F34: 3315544 | G34: 4720725
A35: Капиталови разходи | C35: 595289 | D35: 33147 | E35: 60565 | F35: 214313 | G35: 601481
A37: II. Администрирани разходни параграфи по бюджета | B37: =+SUM(B38:B42) -> 964100 | C37: =+SUM(C38:C42) -> 650742 | D37: =+SUM(D38:D42) -> 0 | E37: =+SUM(E38:E42) -> 1000 | F37: =+SUM(F38:F42) -> 17642 | G37: =+SUM(G38:G42) -> 172756
A38: от тях:
A39: Разходи за членски внос и участие в нетърговски организации и дейности в областта на движимото културно наследство | B39: 4100 | C39: 4206 | G39: 1873
A40: Венецианско биенале на изкуствата | B40: 500000 | C40: 500000 | G40: 153241
A41: Субсидии за творчески проекти и други разходи в областта на движимото културно наследство и визуалните изкуства на основание ЗЗРК и ЗКН | B41: 460000 | C41: =437725-179247-99622-12320 -> 146536 | E41: 1000 | F41: 17642 | G41: 17642
A43: Общо разходи по бюджета (I+II) | B43: =+B37+B31 -> 13462900 | C43: =+C37+C31 -> 13768584 | D43: =+D37+D31 -> 2837829 | E43: =+E37+E31 -> 5737745 | F43: =+F37+F31 -> 8882420 | G43: =+G37+G31 -> 12898410
A45: Численост на щатния персонал | B45: 517 | C45: 517 | D45: 484 | E45: 491 | F45: 494 | G45: 497
A47: 1800.02.01 Бюджетна програма „Национален фонд "Култура“
A48: Разходи по бюджетната програма | B48: Закон 2018 | C48: Уточнен план 2018 г. | D48: Отчет | E48: Отчет | F48: Отчет | G48: Отчет
A49: (в лева) | D49: към | E49: към | F49: към | G49: към
D50: 31 март 2018 г. | E50: 30 юни 2018 г. | F50: 30 септември 2018 г. | G50: 31 декември 2018 г.
...
