Workbook

Sheet пол+прог
A3: Отчет за изпълнението на бюджета с тримесечна информация за разходите по бюджетни програми по бюджета
A4: на МИНИСТЕРСТВО НА КУЛТУРАТА към 31.12.2018 г.
A5: (наименование на бюджетната организация) (отчетен период)
A7: Отчет на разходите по области на политики и бюджетни програми
A8: към 31.12.2018 г.
A9: (отчетен период)
A10: (в лева) | H10: (в лева)
A11: Класификационен код* | B11: Наименование на областта на политика /бюджетната програма | C11: Закон 2018 | D11: Уточнен план 2018 г. | E11: Отчет | F11: Отчет | G11: Отчет | H11: Отчет
E12: към | F12: към | G12: към | H12: към
E13: 31 март 2018 г. | F13: 30 юни 2018 г. | G13: 30 септември 2018 г. | H13: 31 декември 2018 г.
A14: 1800.01.00 | B14: Политика в областта на опазване на движимото и недвижимото културно наследство | C14: =+C15+C16 -> 18949800 | D14: =+D15+D16 -> 16757108 | E14: =+E15+E16 -> 3210204 | F14: =+F15+F16 -> 6429788 | G14: =+G15+G16 -> 10148956 | H14: =+H15+H16 -> 15335597
A15: 1800.01.01 | B15: Бюджетна програма „Опазване на недвижимото културно наследство” | C15: =+Прог!B23 -> 5486900 | D15: =+Прог!C23 -> 2988524 | E15: =+Прог!D23 -> 372375 | F15: =+Прог!E23 -> 692043 | G15: =+Прог!F23 -> 1266536 | H15: =+Прог!G23 -> 2437187
A16: 1800.01.02 | B16: Бюджетна програма „Опазване и представяне на движимото културно наследство и визуалните изкуства” | C16: =+Прог!B43 -> 13462900 | D16: =+Прог!C43 -> 13768584 | E16: =+Прог!D43 -> 2837829 | F16: =+Прог!E43 -> 5737745 | G16: =+Прог!F43 -> 8882420 | H16: =+Прог!G43 -> 12898410
A18: 1800.02.00 | B18: Политика в областта на създаване и популяризиране на съвременно изкуство в страната и в чужбина и достъп до качествено художествено образование | C18: =SUM(C19:C26) -> 151366900 | D18: =SUM(D19:D26) -> 169351834 | E18: =SUM(E19:E26) -> 38466861 | F18: =SUM(F19:F26) -> 79916097 | G18: =SUM(G19:G26) -> 116933630 | H18: =SUM(H19:H26) -> 168843261
A19: 1800.02.01 | B19: Бюджетна програма „Национален фонд „Култура” | C19: =+Прог!B63 -> 996500 | D19: =+Прог!C63 -> 1897946 | E19: =+Прог!D63 -> 644305 | F19: =+Прог!E63 -> 861841 | G19: =+Прог!F63 -> 1134656 | H19: =+Прог!G63 -> 1831449
A20: 1800.02.02 | B20: Бюджетна програма „Филмово изкуство” | C20: =+Прог!B82 -> 14415000 | D20: =+Прог!C82 -> 14385127 | E20: =+Прог!D82 -> 4214797 | F20: =+Прог!E82 -> 6765381 | G20: =+Прог!F82 -> 8201808 | H20: =+Прог!G82 -> 13874219
A21: 1800.02.03 | B21: Бюджетна програма „Сценични изкуства” | C21: =+Прог!B101 -> 91199400 | D21: =+Прог!C101 -> 102730508 | E21: =+Прог!D101 -> 23090086 | F21: =+Прог!E101 -> 50340798 | G21: =+Прог!F101 -> 75611096 | H21: =+Прог!G101 -> 105152581
A22: 1800.02.04 | B22: Бюджетна програма „Фестивали, конкурси, събития и чествания” | C22: =+Прог!B120 -> 740000 | D22: =+Прог!C120 -> 608840 | E22: =+Прог!D120 -> 179903 | F22: =+Прог!E120 -> 384653 | G22: =+Прог!F120 -> 589900 | H22: =+Прог!G120 -> 604786
A23: 1800.02.05 | B23: Бюджетна програма „Гарантиране защитата на интелектуалната собственост” | C23: =+Прог!B138 -> 459500 | D23: =+Прог!C138 -> 409158 | E23: =+Прог!D138 -> 93716 | F23: =+Прог!E138 -> 172552 | G23: =+Прог!F138 -> 258905 | H23: =+Прог!G138 -> 402999
A24: 1800.02.06 | B24: Бюджетна програма „Подпомагане развитието на българската култура и изкуства, на българския книжен сектор, библиотеки и читалища” | C24: =+Прог!B161 -> 6004000 | D24: =+Прог!C161 -> 6100695 | E24: =+Прог!D161 -> 948347 | F24: =+Прог!E161 -> 1980972 | G24: =+Прог!F161 -> 3015777 | H24: =+Прог!G161 -> 5693001
A25: 1800.02.07 | B25: Бюджетна програма „Популяризиране на българската култура в чужбина” | C25: =+Прог!B180 -> 4134400 | D25: =+Прог!C180 -> 5526443 | E25: =+Прог!D180 -> 1199127 | F25: =+Прог!E180 -> 2796426 | G25: =+Прог!F180 -> 3619784 | H25: =+Прог!G180 -> 5231662
A26: 1800.02.08 | B26: Бюджетна програма „Обучение на кадри в областта на изкуството и културата” | C26: =+Прог!B199 -> 33418100 | D26: =+Прог!C199 -> 37693117 | E26: =+Прог!D199 -> 8096580 | F26: =+Прог!E199 -> 16613474 | G26: =+Прог!F199 -> 24501704 | H26: =+Прог!G199 -> 36052564
A28: 1800.03.00 | B28: Бюджетна програма „Администрация“ | C28: =+Прог!B218 -> 4965700 | D28: =+Прог!C218 -> 4498785 | E28: =+Прог!D218 -> 1081934 | F28: =+Прог!E218 -> 2004575 | G28: =+Прог!F218 -> 2915592 | H28: =+Прог!G218 -> 4049320
B29: Общо разходи | C29: =+C28+C18+C14 -> 175282400 | D29: =+D28+D18+D14 -> 190607727 | E29: =+E28+E18+E14 -> 42758999 | F29: =+F28+F18+F14 -> 88350460 | G29: =+G28+G18+G14 -> 129998178 | H29: =+H28+H18+H14 -> 188228178
A31: * Класификационен код съгласно Решение № 502 на Министерския съвет от 2017 г.

Sheet Прог
A3: Отчет на ведомствените и администрираните разходи по бюджетни програми
A4: към 31.12.2018 г.
A5: (отчетен период)
A6: 1800.01.01 Бюджетна програма „Опазване на недвижимото културно наследство“
A7: Разходи по бюджетната програма | B7: Закон 2018 | C7: Уточнен план 2018 г. | D7: Отчет | E7: Отчет | F7: Отчет | G7: Отчет
A8: (в лева) | D8: към | E8: към | F8: към | G8: към
D9: 31 март 2018 г. | E9: 30 юни 2018 г. | F9: 30 септември 2018 г. | G9: 31 декември 2018 г.
A10: I. Ведомствени разходи по бюджета | B10: =+B12+B13+B14 -> 2483200 | C10: =+C12+C13+C14 -> 2114159 | D10: =+D12+D13+D14 -> 370005 | E10: =+E12+E13+E14 -> 686348 | F10: =+F12+F13+F14 -> 1045570 | G10: =+G12+G13+G14 -> 1992603
A11: от тях за:
A12: Персонал | B12: 959900 | C12: 1327256 | D12: 245290 | E12: 487951 | F12: 781142 | G12: 1303680
A13: Издръжка | B13: 1523300 | C13: 485269 | D13: 124715 | E13: 198397 | F13: 264428 | G13: 387289
A14: Капиталови разходи | C14: 301634 | G14: 301634
A16: II. Администрирани разходни параграфи по бюджета | B16: =+SUM(B17:B22) -> 3003700 | C16: =+SUM(C17:C22) -> 874365 | D16: =+SUM(D17:D22) -> 2370 | E16: =+SUM(E17:E22) -> 5695 | F16: =+SUM(F17:F22) -> 220966 | G16: =+SUM(G17:G22) -> 444584
A17: от тях:
A18: Разходи за членски внос и участие в нетърговски организации и дейности в областта на недвижимото културно наследство | B18: 3700 | C18: 5695 | D18: 2370 | E18: 5695 | F18: 5695 | G18: 5695
A19: Консервационно-реставрационни работи за създаване и опазване на културните ценности - Закон за културното наследство | B19: 1500000 | C19: =1500000-332444-51248-281414 -> 834894 | F19: 215271 | G19: 438889
A20: Теренни археологически проучвания и теренна консервация на недвижими археологически културни ценности - Закон за културното наследство | B20: 1500000 | C20: =1500000-1205966-101452-158956 -> 33626
A21: Теренно археологическо проучване на археолгически обект "Хераклея Синтика" | C21: 150
A23: Общо разходи по бюджета (I+II) | B23: =+B16+B10 -> 5486900 | C23: =+C16+C10 -> 2988524 | D23: =+D16+D10 -> 372375 | E23: =+E16+E10 -> 692043 | F23: =+F16+F10 -> 1266536 | G23: =+G16+G10 -> 2437187
A25: Численост на щатния персонал | B25: 60 | C25: 60 | D25: 53 | E25: 52 | F25: 52 | G25: 52
A27: 1800.01.02 Бюджетна програма „Опазване и представяне на движимото културно наследство и визуалните изкуства“
A28: Разходи по бюджетната програма | B28: Закон 2018 | C28: Уточнен план 2018 г. | D28: Отчет | E28: Отчет | F28: Отчет | G28: Отчет
A29: (в лева) | D29: към | E29: към | F29: към | G29: към
D30: 31 март 2018 г. | E30: 30 юни 2018 г. | F30: 30 септември 2018 г. | G30: 31 декември 2018 г.
A31: I. Ведомствени разходи по бюджета | B31: =+B33+B34+B35 -> 12498800 | C31: =+C33+C34+C35 -> 13117842 | D31: =+D33+D34+D35 -> 2837829 | E31: =+E33+E34+E35 -> 5736745 | F31: =+F33+F34+F35 -> 8864778 | G31: =+G33+G34+G35 -> 12725654
A32: от тях за:
A33: Персонал | B33: 6835800 | C33: 7414145 | D33: 1665523 | E33: 3447873 | F33: 5334921 | G33: 7403448
A34: Издръжка | B34: 5663000 | C34: 5108408 | D34: 1139159 | E34: 2228307 | F34: 3315544 | G34: 4720725
A35: Капиталови разходи | C35: 595289 | D35: 33147 | E35: 60565 | F35: 214313 | G35: 601481
A37: II. Администрирани разходни параграфи по бюджета | B37: =+SUM(B38:B42) -> 964100 | C37: =+SUM(C38:C42) -> 650742 | D37: =+SUM(D38:D42) -> 0 | E37: =+SUM(E38:E42) -> 1000 | F37: =+SUM(F38:F42) -> 17642 | G37: =+SUM(G38:G42) -> 172756
A38: от тях:
A39: Разходи за членски внос и участие в нетърговски организации и дейности в областта на движимото културно наследство | B39: 4100 | C39: 4206 | G39: 1873
A40: Венецианско биенале на изкуствата | B40: 500000 | C40: 500000 | G40: 153241
A41: Субсидии за творчески проекти и други разходи в областта на движимото културно наследство и визуалните изкуства на основание ЗЗРК и ЗКН | B41: 460000 | C41: =437725-179247-99622-12320 -> 146536 | E41: 1000 | F41: 17642 | G41: 17642
A43: Общо разходи по бюджета (I+II) | B43: =+B37+B31 -> 13462900 | C43: =+C37+C31 -> 13768584 | D43: =+D37+D31 -> 2837829 | E43: =+E37+E31 -> 5737745 | F43: =+F37+F31 -> 8882420 | G43: =+G37+G31 -> 12898410
A45: Численост на щатния персонал | B45: 517 | C45: 517 | D45: 484 | E45: 491 | F45: 494 | G45: 497
A47: 1800.02.01 Бюджетна програма „Национален фонд "Култура“
A48: Разходи по бюджетната програма | B48: Закон 2018 | C48: Уточнен план 2018 г. | D48: Отчет | E48: Отчет | F48: Отчет | G48: Отчет
A49: (в лева) | D49: към | E49: към | F49: към | G49: към
D50: 31 март 2018 г. | E50: 30 юни 2018 г. | F50: 30 септември 2018 г. | G50: 31 декември 2018 г.
A51: I. Ведомствени разходи по бюджета | B51: =+B53+B54+B55 -> 95100 | C51: =+C53+C54+C55 -> 133542 | D51: =+D53+D54+D55 -> 20610 | E51: =+E53+E54+E55 -> 52813 | F51: =+F53+F54+F55 -> 77677 | G51: =+G53+G54+G55 -> 125867
A52: от тях за:
A53: Персонал | B53: 66700 | C53: 66700 | D53: 18122 | E53: 46253 | F53: 67511 | G53: 100504
A54: Издръжка | B54: 28400 | C54: 64420 | D54: 2488 | E54: 6560 | F54: 10166 | G54: 22941
A55: Капиталови разходи | C55: 2422 | G55: 2422
A57: II. Администрирани разходни параграфи по бюджета | B57: =+SUM(B58:B62) -> 901400 | C57: =+SUM(C58:C62) -> 1764404 | D57: =+SUM(D58:D62) -> 623695 | E57: =+SUM(E58:E62) -> 809028 | F57: =+SUM(F58:F62) -> 1056979 | G57: =+SUM(G58:G62) -> 1705582
A58: от тях:
A59: Разходи за членски внос и участие в нетърговски организации и дейности | B59: 1400 | C59: 1400 | G59: 1231
A60: Културна програма за Българското председателство на Съвета на Европейския съюз 2018 г. | C60: =829200-133000-63577-105783+392448-4058 -> 915230 | D60: 623700 | E60: 689100 | F60: 831113 | G60: 915230
A61: Субсидии за творчески проекти и други разходи за създаване, съхраняване и разпространение на произведения на изкуството и културата и за опазване и популяризиране на културно-историческото наследство на основание ЗЗРК | B61: 900000 | C61: =900000-2000-24554-5000-20672 -> 847774 | D61: -5 | E61: 119928 | F61: 225866 | G61: 789121
A63: Общо разходи по бюджета (I+II) | B63: =+B57+B51 -> 996500 | C63: =+C57+C51 -> 1897946 | D63: =+D57+D51 -> 644305 | E63: =+E57+E51 -> 861841 | F63: =+F57+F51 -> 1134656 | G63: =+G57+G51 -> 1831449
A65: Численост на щатния персонал | B65: 5 | C65: 5 | D65: 4 | E65: 4 | F65: 4 | G65: 4
A67: 1800.02.02 Бюджетна програма „Филмово изкуство“
A68: Разходи по бюджетната програма | B68: Закон 2018 | C68: Уточнен план 2018 г. | D68: Отчет | E68: Отчет | F68: Отчет | G68: Отчет
A69: (в лева) | D69: към | E69: към | F69: към | G69: към
D70: 31 март 2018 г. | E70: 30 юни 2018 г. | F70: 30 септември 2018 г. | G70: 31 декември 2018 г.
A71: I. Ведомствени разходи по бюджета | B71: =+B73+B74+B75 -> 955400 | C71: =+C73+C74+C75 -> 900740 | D71: =+D73+D74+D75 -> 232073 | E71: =+E73+E74+E75 -> 502094 | F71: =+F73+F74+F75 -> 644921 | G71: =+G73+G74+G75 -> 773032
A72: от тях за:
A73: Персонал | B73: 265100 | C73: 265100 | D73: 143418 | E73: 302917 | F73: 368922 | G73: 419860
A74: Издръжка | B74: 690300 | C74: 635640 | D74: 88655 | E74: 199177 | F74: 275999 | G74: 353172
A75: Капиталови разходи
A77: II. Администрирани разходни параграфи по бюджета | B77: =+SUM(B78:B81) -> 13459600 | C77: =+SUM(C78:C81) -> 13484387 | D77: =+SUM(D78:D81) -> 3982724 | E77: =+SUM(E78:E81) -> 6263287 | F77: =+SUM(F78:F81) -> 7556887 | G77: =+SUM(G78:G81) -> 13101187
A78: от тях:
A79: Разходи за членски внос и участие в нетърговски организации и дейности в областта на филмовото изкуство | B79: 259600 | C79: 284387 | D79: 148324 | E79: 284387 | F79: 284387 | G79: 284387
A80: Субсидия за творчески проекти - за създаване и разпространение на български филми и копродукции с българско участие на основание ЗФИ | B80: 13200000 | C80: 13200000 | D80: 3834400 | E80: 5978900 | F80: 7272500 | G80: 12816800
A82: Общо разходи по бюджета (I+II) | B82: =+B77+B71 -> 14415000 | C82: =+C77+C71 -> 14385127 | D82: =+D77+D71 -> 4214797 | E82: =+E77+E71 -> 6765381 | F82: =+F77+F71 -> 8201808 | G82: =+G77+G71 -> 13874219
A84: Численост на щатния персонал | B84: 13 | C84: 13 | D84: 12 | E84: 12 | F84: 12 | G84: 12
A86: 1800.02.03 Бюджетна програма „Сценични изкуства“
A87: Разходи по бюджетните програми | B87: Закон 2018 | C87: Уточнен план 2018 г. | D87: Отчет | E87: Отчет | F87: Отчет | G87: Отчет
A88: (в лева) | D88: към | E88: към | F88: към | G88: към
D89: 31 март 2018 г. | E89: 30 юни 2018 г. | F89: 30 септември 2018 г. | G89: 31 декември 2018 г.
A90: I. Ведомствени разходи по бюджета | B90: =+B92+B93+B94 -> 89741600 | C90: =+C92+C93+C94 -> 101930451 | D90: =+D92+D93+D94 -> 23079881 | E90: =+E92+E93+E94 -> 50194182 | F90: =+F92+F93+F94 -> 74843667 | G90: =+G92+G93+G94 -> 104359649
A91: от тях за:
A92: Персонал | B92: 62093400 | C92: 72937468 | D92: 16981027 | E92: 36279440 | F92: 54004040 | G92: 76031721
A93: Издръжка | B93: 24214500 | C93: 26240699 | D93: 5962799 | E93: 13466631 | F93: 19361870 | G93: 25583485
A94: Капиталови разходи | B94: 3433700 | C94: 2752284 | D94: 136055 | E94: 448111 | F94: 1477757 | G94: 2744443
A96: II. Администрирани разходни параграфи по бюджета | B96: =+SUM(B97:B100) -> 1457800 | C96: =+SUM(C97:C100) -> 800057 | D96: =+SUM(D97:D100) -> 10205 | E96: =+SUM(E97:E100) -> 146616 | F96: =+SUM(F97:F100) -> 767429 | G96: =+SUM(G97:G100) -> 792932
A97: от тях:
A98: Разходи за членски внос и участие в нетърговски организации и дейности в областта на сценичните изкуства | B98: 7800 | C98: 7800 | D98: 675 | E98: 675 | F98: 675 | G98: 675
A99: Субсидии за творчески проекти и други разходи за финансово подпомагане създаването и разпространението на сценични произведения на основание ЗЗРК | B99: 1450000 | C99: 792257 | D99: 9530 | E99: 145941 | F99: 766754 | G99: 792257
A101: Общо разходи по бюджета (I+II) | B101: =+B96+B90 -> 91199400 | C101: =+C96+C90 -> 102730508 | D101: =+D96+D90 -> 23090086 | E101: =+E96+E90 -> 50340798 | F101: =+F96+F90 -> 75611096 | G101: =+G96+G90 -> 105152581
A103: Численост на щатния персонал | B103: 3896 | C103: 3896 | D103: 4388 | E103: 4437 | F103: 4433 | G103: 4508
A105: 1800.02.04 Бюджетна програма „Фестивали, конкурси, събития и чествания“
A106: Разходи по бюджетните програми | B106: Закон 2018 | C106: Уточнен план 2018 г. | D106: Отчет | E106: Отчет | F106: Отчет | G106: Отчет
A107: (в лева) | D107: към | E107: към | F107: към | G107: към
D108: 31 март 2018 г. | E108: 30 юни 2018 г. | F108: 30 септември 2018 г. | G108: 31 декември 2018 г.
A109: I. Ведомствени разходи по бюджета | B109: =+B111+B112+B113 -> 0 | C109: =+C111+C112+C113 -> 20000 | D109: =+D111+D112+D113 -> 0 | E109: =+E111+E112+E113 -> 0 | F109: =+F111+F112+F113 -> 20000 | G109: =+G111+G112+G113 -> 20000
A110: от тях за:
A111: Персонал | C111: 3800 | F111: 3800 | G111: 3800
A112: Издръжка | C112: 16200 | F112: 16200 | G112: 16200
A113: Капиталови разходи
A115: II. Администрирани разходни параграфи по бюджета | B115: =+SUM(B116:B119) -> 740000 | C115: =+SUM(C116:C119) -> 588840 | D115: =+SUM(D116:D119) -> 179903 | E115: =+SUM(E116:E119) -> 384653 | F115: =+SUM(F116:F119) -> 569900 | G115: =+SUM(G116:G119) -> 584786
A116: от тях:
A117: Субсидии и други разходи за фестивали, конкурси, събития и чествания | B117: 740000 | C117: 588840 | D117: 179903 | E117: 384653 | F117: 569900 | G117: 584786
A120: Общо разходи по бюджета (I+II) | B120: =+B115+B109 -> 740000 | C120: =+C115+C109 -> 608840 | D120: =+D115+D109 -> 179903 | E120: =+E115+E109 -> 384653 | F120: =+F115+F109 -> 589900 | G120: =+G115+G109 -> 604786
A122: Численост на щатния персонал
A124: 1800.02.05 Бюджетна програма „Гарантиране защитата на интелектуалната собственост“
A125: Разходи по бюджетните програми | B125: Закон 2018 | C125: Уточнен план 2018 г. | D125: Отчет | E125: Отчет | F125: Отчет | G125: Отчет
A126: (в лева) | D126: към | E126: към | F126: към | G126: към
D127: 31 март 2018 г. | E127: 30 юни 2018 г. | F127: 30 септември 2018 г. | G127: 31 декември 2018 г.
...
