Workbook

Sheet Pol+Pr
B3: Отчет за изпълнението на бюджета с тримесечна информация за разходите по бюджетни програми по бюджета
B4: на МИНИСТЕРСТВО НА КУЛТУРАТА към 31.03.2015 г.
B8: Отчет на разходите по области на политики и бюджетни програми
B9: към 31.03.2015 г.
B10: (отчетен период)
B11: (в лева)
B12: Класификационен код* | C12: Наименование на областта на политика /бюджетната програма | D12: Закон 2015/ | E12: Уточнен | F12: Отчет | G12: Отчет | H12: Отчет | I12: Отчет
D13: ПМС № 8 от 2015 г. | E13: План 2015 г. | F13: към | G13: към | H13: към | I13: към
F14: 31март 2015 г. | G14: 30 юни 2015 г. | H14: 30 септември 2015 г. | I14: 31 декември 2015 г.
B15: 1800.01.00 | C15: Политика в областта на опазване на движимото и недвижимото културно наследство | D15: =+D16+D17 -> 13590582 | E15: =+E16+E17 -> 14097237 | F15: =+F16+F17 -> -1861815
B16: 1800.01.01 | C16: Бюджетна програма „Опазване на недвижимото културно наследство” | D16: =+Pr!C26 -> 4405870 | E16: =+Pr!D26 -> 4405870 | F16: =+Pr!E26 -> -3935835
B17: 1800.01.02 | C17: Бюджетна програма „Опазване и представяне на движимото културно наследство и визуалните изкуства” | D17: =+Pr!C46 -> 9184712 | E17: =+Pr!D46 -> 9691367 | F17: =+Pr!E46 -> 2074020
B19: 1800.02.00 | C19: Политика в областта на създаване и популяризиране на съвременно изкуство в страната и чужбина и достъп до качествено художествено образование | D19: =SUM(D20:D27) -> 108456218 | E19: =SUM(E20:E27) -> 108477538 | F19: =SUM(F20:F27) -> 26514924
B20: 1800.02.01 | C20: Бюджетна програма „Национален фонд „Култура” | D20: =+Pr!C66 -> 500978 | E20: =+Pr!D66 -> 500978 | F20: =+Pr!E66 -> 19876
B21: 1800.02.02 | C21: Бюджетна програма „Филмово изкуство” | D21: =+Pr!C86 -> 14425040 | E21: =+Pr!D86 -> 14425040 | F21: =+Pr!E86 -> 2855417
B22: 1800.02.03 | C22: Бюджетна програма „Сценични изкуства” | D22: =+Pr!C106 -> 59339400 | E22: =+Pr!D106 -> 59360720 | F22: =+Pr!E106 -> 16133985
B23: 1800.02.04 | C23: Бюджетна програма „Фестивали, конкурси, събития и чествания” | D23: =+Pr!C126 -> 740000 | E23: =+Pr!D126 -> 740000 | F23: =+Pr!E126 -> 15000
B24: 1800.02.05 | C24: Бюджетна програма „Гарантиране защитата на интелектуалната собственост” | D24: =+Pr!C146 -> 398550 | E24: =+Pr!D146 -> 398550 | F24: =+Pr!E146 -> 50348
B25: 1800.02.06 | C25: Бюджетна програма „Подпомагане развитието на българската култура и изкуства, на българския книжен сектор, библиотеки и читалища” | D25: =+Pr!C167 -> 3421410 | E25: =+Pr!D167 -> 3421410 | F25: =+Pr!E167 -> 630358
B26: 1800.02.07 | C26: Бюджетна програма „Популяризиране на българската култура в чужбина” | D26: =+Pr!C187 -> 4037840 | E26: =+Pr!D187 -> 4037840 | F26: =+Pr!E187 -> 806496
B27: 1800.02.08 | C27: Бюджетна програма „Обучение на кадри в областта на изкуството и културата” | D27: =+Pr!C207 -> 25593000 | E27: =+Pr!D207 -> 25593000 | F27: =+Pr!E207 -> 6003444
B29: 1800.03.00 | C29: Бюджетна програма „Администрация“ | D29: =+Pr!C227 -> 4646800 | E29: =+Pr!D227 -> 4646800 | F29: =+Pr!E227 -> 770762
C31: Общо разходи | D31: =+D15+D19+D29 -> 126693600 | E31: =+E15+E19+E29 -> 127221575 | F31: =+F15+F19+F29 -> 25423871
B33: * Класификационен код съгласно РМС № 436 от 2014 г., изм. с РМС № 798 от 2014 г.

Sheet Pr
B3: Отчет на ведомствените и администрираните разходи по бюджетни програми
B4: към 31 март 2015 г.
B7: 1800.01.02 Бюджетна програма „Опазване и представяне на движимото културно наследство и визуалните изкуства“
B8: Разходи по бюджетната програма | C8: Закон 2015/ | D8: Уточнен | E8: Отчет | F8: Отчет | G8: Отчет | H8: Отчет
B9: (в лева) | C9: ПМС № 8 от 2015 г. | D9: План 2015 г. | E9: към | F9: към | G9: към | H9: към
E10: 31март 2015 г. | F10: 30 юни 2015 г. | G10: 30 септември 2015 г. | H10: 31 декември 2015 г.
B11: I. Ведомствени разходи по бюджета | C11: =SUM(C13:C15) -> 3402170 | D11: =SUM(D13:D15) -> 3402170 | E11: =SUM(E13:E15) -> 398482 | F11: =SUM(F13:F15) -> 0 | G11: =SUM(G13:G15) -> 0 | H11: =SUM(H13:H15) -> 0
B12: от тях за:
B13: Персонал | C13: 1083870 | D13: 1083870 | E13: 181606
B14: Издръжка | C14: 1523300 | D14: 1523300 | E14: 216919
B15: Капиталови разходи | C15: 795000 | D15: 795000 | E15: -43
B17: II. Администрирани разходни параграфи по бюджета | C17: =SUM(C19:C24) -> 1003700 | D17: =SUM(D19:D24) -> 1003700 | E17: =SUM(E19:E24) -> -4334317 | F17: =SUM(F19:F24) -> 0 | G17: =SUM(G19:G24) -> 0 | H17: =SUM(H19:H24) -> 0
B18: от тях за:
B19: Разходи за членски внос и участие в нетърговски организации и дейности в областта на недвижимото културно наследство | C19: 3700 | D19: 3700
B20: Разходи за персонал - ОП Регионално развитие и БГ-08 | E20: -416642
B21: Разходи за издръжка - ОП Регионално развитие и БГ-08 | E21: -260850
B22: Капиталови разходи - ОП Регионално развитие | E22: -3656825
B23: Консервационно-реставрационни работи за създаване и опазване на културните ценности - Закон за културното наследство | C23: 500000 | D23: 500000
B24: Теренни археологически проучвания и теренна консервация на недвижими археологически културни ценности - Закон за културното наследство | C24: 500000 | D24: 500000
B26: Общо разходи по бюджета (I+II) | C26: =+C11+C17 -> 4405870 | D26: =+D11+D17 -> 4405870 | E26: =+E11+E17 -> -3935835 | F26: =+F11+F17 -> 0 | G26: =+G11+G17 -> 0 | H26: =+H11+H17 -> 0
B28: Численост на щатния персонал | C28: 72 | D28: 60 | E28: 59
B31: 1800.01.02 Бюджетна програма „Опазване и представяне на движимото културно наследство и визуалните изкуства“
B32: Разходи по бюджетната програма | C32: Закон 2015/ | D32: Уточнен | E32: Отчет | F32: Отчет | G32: Отчет | H32: Отчет
B33: (в лева) | C33: ПМС № 8 от 2015 г. | D33: План 2015 г. | E33: към | F33: към | G33: към | H33: към
E34: 31март 2015 г. | F34: 30 юни 2015 г. | G34: 30 септември 2015 г. | H34: 31 декември 2015 г.
B35: I. Ведомствени разходи по бюджета | C35: =SUM(C37:C39) -> 8720612 | D35: =SUM(D37:D39) -> 9227267 | E35: =SUM(E37:E39) -> 2072143 | F35: =SUM(F37:F39) -> 0 | G35: =SUM(G37:G39) -> 0 | H35: =SUM(H37:H39) -> 0
B36: от тях за:
B37: Персонал | C37: 4057600 | D37: 4092128 | E37: 1202355
B38: Издръжка | C38: 4363012 | D38: 4395139 | E38: 860986
B39: Капиталови разходи | C39: 300000 | D39: 740000 | E39: 8802
B41: II. Администрирани разходни параграфи по бюджета | C41: =+C43+C44 -> 464100 | D41: =+D43+D44 -> 464100 | E41: =+E43+E44 -> 1877 | F41: =+F43+F44 -> 0 | G41: =+G43+G44 -> 0 | H41: =+H43+H44 -> 0
B42: от тях за:
B43: Разходи за членски внос и участие в нетърговски организации и дейности в областта на движимото културно наследство | C43: 4100 | D43: 4100 | E43: 1877
B44: Субсидия за творчески проекти и други разходи в областта на движимото културно наследство и визуалните изкуства на основание ЗЗРК и ЗКН | C44: 460000 | D44: 460000
B46: Общо разходи по бюджета (I+II) | C46: =+C35+C41 -> 9184712 | D46: =+D35+D41 -> 9691367 | E46: =+E35+E41 -> 2074020 | F46: =+F35+F41 -> 0 | G46: =+G35+G41 -> 0 | H46: =+H35+H41 -> 0
B48: Численост на щатния персонал | C48: 468 | D48: 435 | E48: 407
B51: 1800.02.01 Бюджетна програма „Национален фонд "Култура“
B52: Разходи по бюджетната програма | C52: Закон 2015/ | D52: Уточнен | E52: Отчет | F52: Отчет | G52: Отчет | H52: Отчет
B53: (в лева) | C53: ПМС № 8 от 2015 г. | D53: План 2015 г. | E53: към | F53: към | G53: към | H53: към
E54: 31март 2015 г. | F54: 30 юни 2015 г. | G54: 30 септември 2015 г. | H54: 31 декември 2015 г.
B55: I. Ведомствени разходи по бюджета | C55: =SUM(C57:C59) -> 98478 | D55: =SUM(D57:D59) -> 98478 | E55: =SUM(E57:E59) -> 19876 | F55: =SUM(F57:F59) -> 0 | G55: =SUM(G57:G59) -> 0 | H55: =SUM(H57:H59) -> 0
B56: от тях за:
B57: Персонал | C57: 66150 | D57: 66150 | E57: 17954
B58: Издръжка | C58: 27328 | D58: 27328 | E58: 1922
B59: Капиталови разходи | C59: 5000 | D59: 5000 | E59: 0
B61: II. Администрирани разходни параграфи по бюджета | C61: =+C63+C64 -> 402500 | D61: =+D63+D64 -> 402500 | E61: =+E63+E64 -> 0 | F61: =+F63+F64 -> 0 | G61: =+G63+G64 -> 0 | H61: =+H63+H64 -> 0
B62: от тях за:
B63: Разходи за членски внос и участие в нетърговски организации и дейности | C63: 2500 | D63: 2500
B64: Субсидия за творчески проекти - за създаване, съхраняване и разпространение на произведения на изкуството и културата и за опазване и популяризиране на културно-историческото наследство на основание ЗЗРК | C64: 400000 | D64: 400000
B66: Общо разходи по бюджета (I+II) | C66: =+C55+C61 -> 500978 | D66: =+D55+D61 -> 500978 | E66: =+E55+E61 -> 19876 | F66: =+F55+F61 -> 0 | G66: =+G55+G61 -> 0 | H66: =+H55+H61 -> 0
B68: Численост на щатния персонал | C68: 5 | D68: 5 | E68: 4
B71: 1800.02.02 Бюджетна програма „Филмово изкуство“
B72: Разходи по бюджетната програма | C72: Закон 2015/ | D72: Уточнен | E72: Отчет | F72: Отчет | G72: Отчет | H72: Отчет
B73: (в лева) | C73: ПМС № 8 от 2015 г. | D73: План 2015 г. | E73: към | F73: към | G73: към | H73: към
E74: 31март 2015 г. | F74: 30 юни 2015 г. | G74: 30 септември 2015 г. | H74: 31 декември 2015 г.
B75: I. Ведомствени разходи по бюджета | C75: =SUM(C77:C79) -> 965440 | D75: =SUM(D77:D79) -> 965440 | E75: =SUM(E77:E79) -> 333147 | F75: =SUM(F77:F79) -> 0 | G75: =SUM(G77:G79) -> 0 | H75: =SUM(H77:H79) -> 0
B76: от тях за:
B77: Персонал | C77: 265140 | D77: 265140 | E77: 73637
B78: Издръжка | C78: 690300 | D78: 690300 | E78: 259510
B79: Капиталови разходи | C79: 10000 | D79: 10000 | E79: 0
B81: II. Администрирани разходни параграфи по бюджета | C81: =+C83+C84 -> 13459600 | D81: =+D83+D84 -> 13459600 | E81: =+E83+E84 -> 2522270 | F81: =+F83+F84 -> 0 | G81: =+G83+G84 -> 0 | H81: =+H83+H84 -> 0
B82: от тях за:
B83: Разходи за членски внос и участие в нетърговски организации и дейности в областта на филмовото изкуство | C83: 259600 | D83: 259600 | E83: 240770
B84: Субсидия за творчески проекти - за създаване и разпространение на български филми и коопродукции с българско участие на основание ЗФИ | C84: 13200000 | D84: 13200000 | E84: 2281500
B86: Общо разходи по бюджета (I+II) | C86: =+C75+C81 -> 14425040 | D86: =+D75+D81 -> 14425040 | E86: =+E75+E81 -> 2855417 | F86: =+F75+F81 -> 0 | G86: =+G75+G81 -> 0 | H86: =+H75+H81 -> 0
B88: Численост на щатния персонал | C88: 14 | D88: 13 | E88: 12
B91: 1800.02.03 Бюджетна програма „Сценични изкуства“
B92: Разходи по бюджетната програма | C92: Закон 2015/ | D92: Уточнен | E92: Отчет | F92: Отчет | G92: Отчет | H92: Отчет
B93: (в лева) | C93: ПМС № 8 от 2015 г. | D93: План 2015 г. | E93: към | F93: към | G93: към | H93: към
E94: 31март 2015 г. | F94: 30 юни 2015 г. | G94: 30 септември 2015 г. | H94: 31 декември 2015 г.
B95: I. Ведомствени разходи по бюджета | C95: =SUM(C97:C99) -> 57881600 | D95: =SUM(D97:D99) -> 57902920 | E95: =SUM(E97:E99) -> 16132978 | F95: =SUM(F97:F99) -> 0 | G95: =SUM(G97:G99) -> 0 | H95: =SUM(H97:H99) -> 0
B96: от тях за:
B97: Персонал | C97: 38903200 | D97: 38903200 | E97: 12186686
B98: Издръжка | C98: 17004700 | D98: 17026020 | E98: 3869892
B99: Капиталови разходи | C99: 1973700 | D99: 1973700 | E99: 76400
B101: II. Администрирани разходни параграфи по бюджета | C101: =+C103+C104 -> 1457800 | D101: =+D103+D104 -> 1457800 | E101: =+E103+E104 -> 1007 | F101: =+F103+F104 -> 0 | G101: =+G103+G104 -> 0 | H101: =+H103+H104 -> 0
B102: от тях за:
B103: Разходи за членски внос и участие в нетърговски организации и дейности в областта на сценичните изкуства | C103: 7800 | D103: 7800 | E103: 1050
B104: Субсидия за творчески проекти и други разходи за финансово подпомагане създаването и разпространението на сценични произведения на основание ЗЗРК | C104: 1450000 | D104: 1450000 | E104: -43
B106: Общо разходи по бюджета (I+II) | C106: =+C95+C101 -> 59339400 | D106: =+D95+D101 -> 59360720 | E106: =+E95+E101 -> 16133985 | F106: =+F95+F101 -> 0 | G106: =+G95+G101 -> 0 | H106: =+H95+H101 -> 0
B108: Численост на щатния персонал | C108: 3896 | D108: 3896 | E108: 4305
B111: 1800.02.04 Бюджетна програма „Фестивали, конкурси, събития и чествания“
B112: Разходи по бюджетната програма | C112: Закон 2015/ | D112: Уточнен | E112: Отчет | F112: Отчет | G112: Отчет | H112: Отчет
B113: (в лева) | C113: ПМС № 8 от 2015 г. | D113: План 2015 г. | E113: към | F113: към | G113: към | H113: към
E114: 31март 2015 г. | F114: 30 юни 2015 г. | G114: 30 септември 2015 г. | H114: 31 декември 2015 г.
B115: I. Ведомствени разходи по бюджета | C115: =SUM(C117:C119) -> 0 | D115: =SUM(D117:D119) -> 105000 | E115: =SUM(E117:E119) -> 15000 | F115: =SUM(F117:F119) -> 0 | G115: =SUM(G117:G119) -> 0 | H115: =SUM(H117:H119) -> 0
B116: от тях за:
B117: Персонал | D117: 15000 | E117: 15000
B118: Издръжка | D118: 90000
B119: Капиталови разходи
B121: II. Администрирани разходни параграфи по бюджета | C121: =+C122+C123 -> 740000 | D121: =+D122+D123 -> 635000 | E121: =+E122+E123 -> 0 | F121: =+F122+F123 -> 0 | G121: =+G122+G123 -> 0 | H121: =+H122+H123 -> 0
B122: от тях за:
B123: Фестивали, конкурси, събития и чествания | C123: 740000 | D123: 635000
B124: ..............................
B126: Общо разходи по бюджета (I+II) | C126: =+C115+C121 -> 740000 | D126: =+D115+D121 -> 740000 | E126: =+E115+E121 -> 15000 | F126: =+F115+F121 -> 0 | G126: =+G115+G121 -> 0 | H126: =+H115+H121 -> 0
B128: Численост на щатния персонал
B131: 1800.02.05 Бюджетна програма „Гарантиране защитата на интелектуалната собственост“
B132: Разходи по бюджетната програма | C132: Закон 2015/ | D132: Уточнен | E132: Отчет | F132: Отчет | G132: Отчет | H132: Отчет
B133: (в лева) | C133: ПМС № 8 от 2015 г. | D133: План 2015 г. | E133: към | F133: към | G133: към | H133: към
E134: 31март 2015 г. | F134: 30 юни 2015 г. | G134: 30 септември 2015 г. | H134: 31 декември 2015 г.
...
