Workbook

Sheet Pol+Pr
B3: Отчет за изпълнението на бюджета с тримесечна информация за разходите по бюджетни програми по бюджета
B4: на МИНИСТЕРСТВО НА КУЛТУРАТА към 31.03.2015 г.
B8: Отчет на разходите по области на политики и бюджетни програми
B9: към 31.03.2015 г.
B10: (отчетен период)
B11: (в лева)
B12: Класификационен код* | C12: Наименование на областта на политика /бюджетната програма | D12: Закон 2015/ | E12: Уточнен | F12: Отчет | G12: Отчет | H12: Отчет | I12: Отчет
D13: ПМС № 8 от 2015 г. | E13: План 2015 г. | F13: към | G13: към | H13: към | I13: към
F14: 31март 2015 г. | G14: 30 юни 2015 г. | H14: 30 септември 2015 г. | I14: 31 декември 2015 г.
B15: 1800.01.00 | C15: Политика в областта на опазване на движимото и недвижимото културно наследство | D15: =+D16+D17 -> 13590582 | E15: =+E16+E17 -> 14097237 | F15: =+F16+F17 -> -1861815
B16: 1800.01.01 | C16: Бюджетна програма „Опазване на недвижимото културно наследство” | D16: =+Pr!C26 -> 4405870 | E16: =+Pr!D26 -> 4405870 | F16: =+Pr!E26 -> -3935835
B17: 1800.01.02 | C17: Бюджетна програма „Опазване и представяне на движимото културно наследство и визуалните изкуства” | D17: =+Pr!C46 -> 9184712 | E17: =+Pr!D46 -> 9691367 | F17: =+Pr!E46 -> 2074020
B19: 1800.02.00 | C19: Политика в областта на създаване и популяризиране на съвременно изкуство в страната и чужбина и достъп до качествено художествено образование | D19: =SUM(D20:D27) -> 108456218 | E19: =SUM(E20:E27) -> 108477538 | F19: =SUM(F20:F27) -> 26514924
B20: 1800.02.01 | C20: Бюджетна програма „Национален фонд „Култура” | D20: =+Pr!C66 -> 500978 | E20: =+Pr!D66 -> 500978 | F20: =+Pr!E66 -> 19876
B21: 1800.02.02 | C21: Бюджетна програма „Филмово изкуство” | D21: =+Pr!C86 -> 14425040 | E21: =+Pr!D86 -> 14425040 | F21: =+Pr!E86 -> 2855417
B22: 1800.02.03 | C22: Бюджетна програма „Сценични изкуства” | D22: =+Pr!C106 -> 59339400 | E22: =+Pr!D106 -> 59360720 | F22: =+Pr!E106 -> 16133985
B23: 1800.02.04 | C23: Бюджетна програма „Фестивали, конкурси, събития и чествания” | D23: =+Pr!C126 -> 740000 | E23: =+Pr!D126 -> 740000 | F23: =+Pr!E126 -> 15000
B24: 1800.02.05 | C24: Бюджетна програма „Гарантиране защитата на интелектуалната собственост” | D24: =+Pr!C146 -> 398550 | E24: =+Pr!D146 -> 398550 | F24: =+Pr!E146 -> 50348
B25: 1800.02.06 | C25: Бюджетна програма „Подпомагане развитието на българската култура и изкуства, на българския книжен сектор, библиотеки и читалища” | D25: =+Pr!C167 -> 3421410 | E25: =+Pr!D167 -> 3421410 | F25: =+Pr!E167 -> 630358
B26: 1800.02.07 | C26: Бюджетна програма „Популяризиране на българската култура в чужбина” | D26: =+Pr!C187 -> 4037840 | E26: =+Pr!D187 -> 4037840 | F26: =+Pr!E187 -> 806496
B27: 1800.02.08 | C27: Бюджетна програма „Обучение на кадри в областта на изкуството и културата” | D27: =+Pr!C207 -> 25593000 | E27: =+Pr!D207 -> 25593000 | F27: =+Pr!E207 -> 6003444
B29: 1800.03.00 | C29: Бюджетна програма „Администрация“ | D29: =+Pr!C227 -> 4646800 | E29: =+Pr!D227 -> 4646800 | F29: =+Pr!E227 -> 770762
C31: Общо разходи | D31: =+D15+D19+D29 -> 126693600 | E31: =+E15+E19+E29 -> 127221575 | F31: =+F15+F19+F29 -> 25423871
B33: * Класификационен код съгласно РМС № 436 от 2014 г., изм. с РМС № 798 от 2014 г.

Sheet Pr
B3: Отчет на ведомствените и администрираните разходи по бюджетни програми
B4: към 31 март 2015 г.
B7: 1800.01.02 Бюджетна програма „Опазване и представяне на движимото културно наследство и визуалните изкуства“
B8: Разходи по бюджетната програма | C8: Закон 2015/ | D8: Уточнен | E8: Отчет | F8: Отчет | G8: Отчет | H8: Отчет
B9: (в лева) | C9: ПМС № 8 от 2015 г. | D9: План 2015 г. | E9: към | F9: към | G9: към | H9: към
E10: 31март 2015 г. | F10: 30 юни 2015 г. | G10: 30 септември 2015 г. | H10: 31 декември 2015 г.
B11: I. Ведомствени разходи по бюджета | C11: =SUM(C13:C15) -> 3402170 | D11: =SUM(D13:D15) -> 3402170 | E11: =SUM(E13:E15) -> 398482 | F11: =SUM(F13:F15) -> 0 | G11: =SUM(G13:G15) -> 0 | H11: =SUM(H13:H15) -> 0
B12: от тях за:
B13: Персонал | C13: 1083870 | D13: 1083870 | E13: 181606
B14: Издръжка | C14: 1523300 | D14: 1523300 | E14: 216919
B15: Капиталови разходи | C15: 795000 | D15: 795000 | E15: -43
B17: II. Администрирани разходни параграфи по бюджета | C17: =SUM(C19:C24) -> 1003700 | D17: =SUM(D19:D24) -> 1003700 | E17: =SUM(E19:E24) -> -4334317 | F17: =SUM(F19:F24) -> 0 | G17: =SUM(G19:G24) -> 0 | H17: =SUM(H19:H24) -> 0
B18: от тях за:
B19: Разходи за членски внос и участие в нетърговски организации и дейности в областта на недвижимото културно наследство | C19: 3700 | D19: 3700
B20: Разходи за персонал - ОП Регионално развитие и БГ-08 | E20: -416642
B21: Разходи за издръжка - ОП Регионално развитие и БГ-08 | E21: -260850
B22: Капиталови разходи - ОП Регионално развитие | E22: -3656825
B23: Консервационно-реставрационни работи за създаване и опазване на културните ценности - Закон за културното наследство | C23: 500000 | D23: 500000
B24: Теренни археологически проучвания и теренна консервация на недвижими археологически културни ценности - Закон за културното наследство | C24: 500000 | D24: 500000
B26: Общо разходи по бюджета (I+II) | C26: =+C11+C17 -> 4405870 | D26: =+D11+D17 -> 4405870 | E26: =+E11+E17 -> -3935835 | F26: =+F11+F17 -> 0 | G26: =+G11+G17 -> 0 | H26: =+H11+H17 -> 0
B28: Численост на щатния персонал | C28: 72 | D28: 60 | E28: 59
B31: 1800.01.02 Бюджетна програма „Опазване и представяне на движимото културно наследство и визуалните изкуства“
B32: Разходи по бюджетната програма | C32: Закон 2015/ | D32: Уточнен | E32: Отчет | F32: Отчет | G32: Отчет | H32: Отчет
B33: (в лева) | C33: ПМС № 8 от 2015 г. | D33: План 2015 г. | E33: към | F33: към | G33: към | H33: към
E34: 31март 2015 г. | F34: 30 юни 2015 г. | G34: 30 септември 2015 г. | H34: 31 декември 2015 г.
B35: I. Ведомствени разходи по бюджета | C35: =SUM(C37:C39) -> 8720612 | D35: =SUM(D37:D39) -> 9227267 | E35: =SUM(E37:E39) -> 2072143 | F35: =SUM(F37:F39) -> 0 | G35: =SUM(G37:G39) -> 0 | H35: =SUM(H37:H39) -> 0
B36: от тях за:
B37: Персонал | C37: 4057600 | D37: 4092128 | E37: 1202355
B38: Издръжка | C38: 4363012 | D38: 4395139 | E38: 860986
B39: Капиталови разходи | C39: 300000 | D39: 740000 | E39: 8802
B41: II. Администрирани разходни параграфи по бюджета | C41: =+C43+C44 -> 464100 | D41: =+D43+D44 -> 464100 | E41: =+E43+E44 -> 1877 | F41: =+F43+F44 -> 0 | G41: =+G43+G44 -> 0 | H41: =+H43+H44 -> 0
B42: от тях за:
B43: Разходи за членски внос и участие в нетърговски организации и дейности в областта на движимото културно наследство | C43: 4100 | D43: 4100 | E43: 1877
B44: Субсидия за творчески проекти и други разходи в областта на движимото културно наследство и визуалните изкуства на основание ЗЗРК и ЗКН | C44: 460000 | D44: 460000
B46: Общо разходи по бюджета (I+II) | C46: =+C35+C41 -> 9184712 | D46: =+D35+D41 -> 9691367 | E46: =+E35+E41 -> 2074020 | F46: =+F35+F41 -> 0 | G46: =+G35+G41 -> 0 | H46: =+H35+H41 -> 0
B48: Численост на щатния персонал | C48: 468 | D48: 435 | E48: 407
B51: 1800.02.01 Бюджетна програма „Национален фонд "Култура“
B52: Разходи по бюджетната програма | C52: Закон 2015/ | D52: Уточнен | E52: Отчет | F52: Отчет | G52: Отчет | H52: Отчет
B53: (в лева) | C53: ПМС № 8 от 2015 г. | D53: План 2015 г. | E53: към | F53: към | G53: към | H53: към
E54: 31март 2015 г. | F54: 30 юни 2015 г. | G54: 30 септември 2015 г. | H54: 31 декември 2015 г.
...
