Workbook
Name _Hlk194811156: обл.пол!$B$6

Sheet обл.пол
B2: Отчет на разходите по области на политики и бюджетни програми
B3: към 31.03.2014 г.
B6: Наименование на областта на политика /бюджетната програма (в лева) | C6: Закон 2014/ | D6: Уточнен | E6: Отчет | F6: Отчет | G6: Отчет | H6: Отчет
C7: ПМС № 3 от 2014 г. | D7: План 2014 г. | E7: към | F7: към | G7: към | H7: към
E8: 31март 2014 г. | F8: 30 юни 2014 г. | G8: 30 септември 2014 г. | H8: 31 декември 2014 г.
B9: Политика в областта на опазване на движимото и недвижимото културно наследство | C9: =+C10+C11 -> 13662000 | D9: =+D10+D11 -> 17262000 | E9: =+E10+E11 -> 1865525
B10: Бюджетна програма "Опазване на недвижимото културно наследство" | C10: =+прог.!D23 -> 4026300 | D10: =+прог.!E23 -> 7626300 | E10: =+прог.!F23 -> 312828
B11: Бюджетна програма "Опазване и представяне на движимото културно наследство и визуалните изкуства" | C11: =+прог.!D44 -> 9635700 | D11: =+прог.!E44 -> 9635700 | E11: =+прог.!F44 -> 1552697
B13: Политика в областта на създаване и популяризиране на съвременно изкуство в страната и чужбина и достъп до качествено художествено образование | C13: =+SUM(C14:C21) -> 102300900 | D13: =+SUM(D14:D21) -> 102547900 | E13: =+SUM(E14:E21) -> 25094506
B14: Бюджетна програма "Национален фонд "Култура" | C14: =+прог.!D65 -> 508300 | D14: =+прог.!E65 -> 508300 | E14: =+прог.!F65 -> 18913
B15: Бюджетна програма "Филмово изкуство" | C15: =+прог.!D85 -> 13384500 | D15: =+прог.!E85 -> 13384500 | E15: =+прог.!F85 -> 1829657
B16: Бюджетна програма "Сценични изкуства" | C16: =+прог.!D107 -> 55544900 | D16: =+прог.!E107 -> 55544900 | E16: =+прог.!F107 -> 15818620
B17: Бюджетна програма "Фестивали, конкурси, събития и чествания" | C17: =+прог.!D127 -> 140000 | D17: =+прог.!E127 -> 387000 | E17: =+прог.!F127 -> 98829
B18: Бюджетна програма "Гарантиране защитата на интелектуалната собственост" | C18: =+прог.!D147 -> 415900 | D18: =+прог.!E147 -> 415900 | E18: =+прог.!F147 -> 22215
B19: Бюджетна програма "Подпомагане развитието на българската култура и изкуства, на българския книжен сектор, библиотеки и читалища" | C19: =+прог.!D167 -> 3659400 | D19: =+прог.!E167 -> 3659400 | E19: =+прог.!F167 -> 691339
B20: Бюджетна програма "Популяризиране на българската култура в чужбина" | C20: =+прог.!D185 -> 4104900 | D20: =+прог.!E185 -> 4104900 | E20: =+прог.!F185 -> 785704
B21: Бюджетна програма "Обучение на кадри в областта на изкуството и културата" | C21: =+прог.!D204 -> 24543000 | D21: =+прог.!E204 -> 24543000 | E21: =+прог.!F204 -> 5829229
B23: Бюджетна програма „Администрация“ | C23: =+прог.!D224 -> 4776700 | D23: =+прог.!E224 -> 4776700 | E23: =+прог.!F224 -> 1020109
B25: Общо разходи | C25: =+C9+C13+C23 -> 120739600 | D25: =+D9+D13+D23 -> 124586600 | E25: =+E9+E13+E23 -> 27980140

Sheet прог.
C2: Отчет на ведомствените и администрираните разходи по бюджетни програми
C3: към 31.03.2014 г.
C4: (отчетен период)
C8: Бюджетна програма „Опазване на недвижимото културно наследство“
C9: Разходи по бюджетната програма | D9: Закон 2014/ | E9: Уточнен | F9: Отчет | G9: Отчет | H9: Отчет | I9: Отчет
C10: (в лева) | D10: ПМС № 3 от 2014 г. | E10: План 2014 г. | F10: към | G10: към | H10: към | I10: към
F11: 31март 2014 г. | G11: 30 юни 2014 г. | H11: 30 септември 2014 г. | I11: 31 декември 2014 г.
C12: I. Ведомствени разходи по бюджета | D12: =+SUM(D14:D16) -> 3522600 | E12: =+SUM(E14:E16) -> 7122600 | F12: =+SUM(F14:F16) -> 296370
C13: от тях за:
C14: Персонал | D14: 1204300 | E14: 1204300 | F14: 227417
C15: Издръжка | D15: 1523300 | E15: 1523300 | F15: 68953
C16: Капиталови разходи | D16: 795000 | E16: 4395000
C18: II. Администрирани разходни показатели по бюджета | D18: =+D20+D21 -> 503700 | E18: =+E20+E21 -> 503700 | F18: =+F20+F21 -> 16458
C19: от тях за:
C20: Разходи за членски внос и участие в нетърговски организации и дейности | D20: 3700 | E20: 3700 | F20: 5658
C21: Консервационно-реставрационни работи за създаване и опазване на културните ценности на основание Закона за културното наследство | D21: 500000 | E21: 500000 | F21: 10800
C23: Общо разходи по бюджета (I+II) | D23: =D18+D12 -> 4026300 | E23: =E18+E12 -> 7626300 | F23: =F18+F12 -> 312828
C25: Численост на щатния персонал | D25: 72 | E25: 72 | F25: 64
C28: Бюджетна програма „Опазване и представяне на движимото културно наследство и визуалните изкуства“
C29: Разходи по бюджетната програма | D29: Закон 2014/ | E29: Уточнен | F29: Отчет | G29: Отчет | H29: Отчет | I29: Отчет
C30: (в лева) | D30: ПМС № 3 от 2014 г. | E30: План 2014 г. | F30: към | G30: към | H30: към | I30: към
F31: 31март 2014 г. | G31: 30 юни 2014 г. | H31: 30 септември 2014 г. | I31: 31 декември 2014 г.
C32: I. Ведомствени разходи по бюджета | D32: =+SUM(D34:D36) -> 9171600 | E32: =+SUM(E34:E36) -> 9171600 | F32: =+SUM(F34:F36) -> 1547310
C33: от тях за:
C34: Персонал | D34: 4508700 | E34: 4508700 | F34: 998251
C35: Издръжка | D35: 4362900 | E35: 4362900 | F35: 660535
C36: Капиталови разходи | D36: 300000 | E36: 300000 | F36: -111476
C38: II. Администрирани разходни показатели по бюджета | D38: =+D40+D41+D42 -> 464100 | E38: =+E40+E41+E42 -> 464100 | F38: =+F40+F41+F42 -> 5387
C39: от тях за:
C40: Субсидии за нефинансови предприятия - субсидия за творчески проекти в областта на движимото културно наследство и визуалните изкуства на основание ЗЗРК и ЗКН | F40: 3510
C41: Разходи за членски внос и участие в нетърговски организации и дейности | D41: 4100 | E41: 4100 | F41: 1877
C42: Разходи за издръжка - субсидия за творчески проекти в областта на движимото културно наследство и визуалните изкуства на основание ЗЗРК и ЗКН | D42: 460000 | E42: 460000
C44: Общо разходи по бюджета (I+II) | D44: =D38+D32 -> 9635700 | E44: =E38+E32 -> 9635700 | F44: =F38+F32 -> 1552697
C46: Численост на щатния персонал | D46: 468 | E46: 468 | F46: 432
C49: Бюджетна програма "Национален фонд "Култура"
C50: Разходи по бюджетната програма | D50: Закон 2014/ | E50: Уточнен | F50: Отчет | G50: Отчет | H50: Отчет | I50: Отчет
C51: (в лева) | D51: ПМС № 3 от 2014 г. | E51: План 2014 г. | F51: към | G51: към | H51: към | I51: към
F52: 31март 2014 г. | G52: 30 юни 2014 г. | H52: 30 септември 2014 г. | I52: 31 декември 2014 г.
C53: I. Ведомствени разходи по бюджета | D53: =+SUM(D55:D57) -> 105800 | E53: =+SUM(E55:E57) -> 105800 | F53: =+SUM(F55:F57) -> 19825
C54: от тях за:
...
