Workbook
Name _Hlk194811156: обл.пол!$B$6

Sheet обл.пол
B2: Отчет на разходите по области на политики и бюджетни програми
B3: към 31.03.2014 г.
B6: Наименование на областта на политика /бюджетната програма (в лева) | C6: Закон 2014/ | D6: Уточнен | E6: Отчет | F6: Отчет | G6: Отчет | H6: Отчет
C7: ПМС № 3 от 2014 г. | D7: План 2014 г. | E7: към | F7: към | G7: към | H7: към
E8: 31март 2014 г. | F8: 30 юни 2014 г. | G8: 30 септември 2014 г. | H8: 31 декември 2014 г.
B9: Политика в областта на опазване на движимото и недвижимото културно наследство | C9: =+C10+C11 -> 13662000 | D9: =+D10+D11 -> 17262000 | E9: =+E10+E11 -> 1865525
B10: Бюджетна програма "Опазване на недвижимото културно наследство" | C10: =+прог.!D23 -> 4026300 | D10: =+прог.!E23 -> 7626300 | E10: =+прог.!F23 -> 312828
B11: Бюджетна програма "Опазване и представяне на движимото културно наследство и визуалните изкуства" | C11: =+прог.!D44 -> 9635700 | D11: =+прог.!E44 -> 9635700 | E11: =+прог.!F44 -> 1552697
B13: Политика в областта на създаване и популяризиране на съвременно изкуство в страната и чужбина и достъп до качествено художествено образование | C13: =+SUM(C14:C21) -> 102300900 | D13: =+SUM(D14:D21) -> 102547900 | E13: =+SUM(E14:E21) -> 25094506
B14: Бюджетна програма "Национален фонд "Култура" | C14: =+прог.!D65 -> 508300 | D14: =+прог.!E65 -> 508300 | E14: =+прог.!F65 -> 18913
B15: Бюджетна програма "Филмово изкуство" | C15: =+прог.!D85 -> 13384500 | D15: =+прог.!E85 -> 13384500 | E15: =+прог.!F85 -> 1829657
B16: Бюджетна програма "Сценични изкуства" | C16: =+прог.!D107 -> 55544900 | D16: =+прог.!E107 -> 55544900 | E16: =+прог.!F107 -> 15818620
B17: Бюджетна програма "Фестивали, конкурси, събития и чествания" | C17: =+прог.!D127 -> 140000 | D17: =+прог.!E127 -> 387000 | E17: =+прог.!F127 -> 98829
B18: Бюджетна програма "Гарантиране защитата на интелектуалната собственост" | C18: =+прог.!D147 -> 415900 | D18: =+прог.!E147 -> 415900 | E18: =+прог.!F147 -> 22215
B19: Бюджетна програма "Подпомагане развитието на българската култура и изкуства, на българския книжен сектор, библиотеки и читалища" | C19: =+прог.!D167 -> 3659400 | D19: =+прог.!E167 -> 3659400 | E19: =+прог.!F167 -> 691339
B20: Бюджетна програма "Популяризиране на българската култура в чужбина" | C20: =+прог.!D185 -> 4104900 | D20: =+прог.!E185 -> 4104900 | E20: =+прог.!F185 -> 785704
B21: Бюджетна програма "Обучение на кадри в областта на изкуството и културата" | C21: =+прог.!D204 -> 24543000 | D21: =+прог.!E204 -> 24543000 | E21: =+прог.!F204 -> 5829229
B23: Бюджетна програма „Администрация“ | C23: =+прог.!D224 -> 4776700 | D23: =+прог.!E224 -> 4776700 | E23: =+прог.!F224 -> 1020109
B25: Общо разходи | C25: =+C9+C13+C23 -> 120739600 | D25: =+D9+D13+D23 -> 124586600 | E25: =+E9+E13+E23 -> 27980140

Sheet прог.
C2: Отчет на ведомствените и администрираните разходи по бюджетни програми
C3: към 31.03.2014 г.
C4: (отчетен период)
C8: Бюджетна програма „Опазване на недвижимото културно наследство“
C9: Разходи по бюджетната програма | D9: Закон 2014/ | E9: Уточнен | F9: Отчет | G9: Отчет | H9: Отчет | I9: Отчет
C10: (в лева) | D10: ПМС № 3 от 2014 г. | E10: План 2014 г. | F10: към | G10: към | H10: към | I10: към
F11: 31март 2014 г. | G11: 30 юни 2014 г. | H11: 30 септември 2014 г. | I11: 31 декември 2014 г.
C12: I. Ведомствени разходи по бюджета | D12: =+SUM(D14:D16) -> 3522600 | E12: =+SUM(E14:E16) -> 7122600 | F12: =+SUM(F14:F16) -> 296370
C13: от тях за:
C14: Персонал | D14: 1204300 | E14: 1204300 | F14: 227417
C15: Издръжка | D15: 1523300 | E15: 1523300 | F15: 68953
C16: Капиталови разходи | D16: 795000 | E16: 4395000
C18: II. Администрирани разходни показатели по бюджета | D18: =+D20+D21 -> 503700 | E18: =+E20+E21 -> 503700 | F18: =+F20+F21 -> 16458
C19: от тях за:
C20: Разходи за членски внос и участие в нетърговски организации и дейности | D20: 3700 | E20: 3700 | F20: 5658
C21: Консервационно-реставрационни работи за създаване и опазване на културните ценности на основание Закона за културното наследство | D21: 500000 | E21: 500000 | F21: 10800
C23: Общо разходи по бюджета (I+II) | D23: =D18+D12 -> 4026300 | E23: =E18+E12 -> 7626300 | F23: =F18+F12 -> 312828
C25: Численост на щатния персонал | D25: 72 | E25: 72 | F25: 64
C28: Бюджетна програма „Опазване и представяне на движимото културно наследство и визуалните изкуства“
C29: Разходи по бюджетната програма | D29: Закон 2014/ | E29: Уточнен | F29: Отчет | G29: Отчет | H29: Отчет | I29: Отчет
C30: (в лева) | D30: ПМС № 3 от 2014 г. | E30: План 2014 г. | F30: към | G30: към | H30: към | I30: към
F31: 31март 2014 г. | G31: 30 юни 2014 г. | H31: 30 септември 2014 г. | I31: 31 декември 2014 г.
C32: I. Ведомствени разходи по бюджета | D32: =+SUM(D34:D36) -> 9171600 | E32: =+SUM(E34:E36) -> 9171600 | F32: =+SUM(F34:F36) -> 1547310
C33: от тях за:
C34: Персонал | D34: 4508700 | E34: 4508700 | F34: 998251
C35: Издръжка | D35: 4362900 | E35: 4362900 | F35: 660535
C36: Капиталови разходи | D36: 300000 | E36: 300000 | F36: -111476
C38: II. Администрирани разходни показатели по бюджета | D38: =+D40+D41+D42 -> 464100 | E38: =+E40+E41+E42 -> 464100 | F38: =+F40+F41+F42 -> 5387
C39: от тях за:
C40: Субсидии за нефинансови предприятия - субсидия за творчески проекти в областта на движимото културно наследство и визуалните изкуства на основание ЗЗРК и ЗКН | F40: 3510
C41: Разходи за членски внос и участие в нетърговски организации и дейности | D41: 4100 | E41: 4100 | F41: 1877
C42: Разходи за издръжка - субсидия за творчески проекти в областта на движимото културно наследство и визуалните изкуства на основание ЗЗРК и ЗКН | D42: 460000 | E42: 460000
C44: Общо разходи по бюджета (I+II) | D44: =D38+D32 -> 9635700 | E44: =E38+E32 -> 9635700 | F44: =F38+F32 -> 1552697
C46: Численост на щатния персонал | D46: 468 | E46: 468 | F46: 432
C49: Бюджетна програма "Национален фонд "Култура"
C50: Разходи по бюджетната програма | D50: Закон 2014/ | E50: Уточнен | F50: Отчет | G50: Отчет | H50: Отчет | I50: Отчет
C51: (в лева) | D51: ПМС № 3 от 2014 г. | E51: План 2014 г. | F51: към | G51: към | H51: към | I51: към
F52: 31март 2014 г. | G52: 30 юни 2014 г. | H52: 30 септември 2014 г. | I52: 31 декември 2014 г.
C53: I. Ведомствени разходи по бюджета | D53: =+SUM(D55:D57) -> 105800 | E53: =+SUM(E55:E57) -> 105800 | F53: =+SUM(F55:F57) -> 19825
C54: от тях за:
C55: Персонал | D55: 73500 | E55: 73500 | F55: 19263
C56: Издръжка | D56: 27300 | E56: 27300 | F56: 562
C57: Капиталови разходи | D57: 5000 | E57: 5000
C59: II. Администрирани разходни показатели по бюджета | D59: =+D61+D62+D63 -> 402500 | E59: =+E61+E62+E63 -> 402500 | F59: =+F61+F62+F63 -> -912
C60: от тях за:
C61: Субсидии за нефинансови предприятия на основание ЗЗРК - за създаване, съхраняване и разпространение на произведения на изкуството и културата и за опазване и популяризиране на културно-историческото наследство - субсидия за творчески проекти" | D61: 200000 | E61: 200000 | F61: -81
C62: Субсидии за организации с нестопанска цел на основание ЗЗРК - за създаване и разпространяване на произведения на изкуството и културата и за опазване и популяризиране на културно-историческото наследство - субсидия за творчески проекти" | D62: 200000 | E62: 200000 | F62: -831
C63: Разходи за членски внос и участие в нетърговски организации и дейности | D63: 2500 | E63: 2500
C65: Общо разходи по бюджета (I+II) | D65: =D59+D53 -> 508300 | E65: =E59+E53 -> 508300 | F65: =F59+F53 -> 18913
C67: Численост на щатния персонал | D67: 5 | E67: 5 | F67: 4
C70: Бюджетна програма "Филмово изкуство"
C71: Разходи по бюджетната програма | D71: Закон 2014/ | E71: Уточнен | F71: Отчет | G71: Отчет | H71: Отчет | I71: Отчет
C72: (в лева) | D72: ПМС № 3 от 2014 г. | E72: План 2014 г. | F72: към | G72: към | H72: към | I72: към
F73: 31март 2014 г. | G73: 30 юни 2014 г. | H73: 30 септември 2014 г. | I73: 31 декември 2014 г.
C74: I. Ведомствени разходи по бюджета | D74: =+SUM(D76:D78) -> 424900 | E74: =+SUM(E76:E78) -> 424900 | F74: =+SUM(F76:F78) -> 109155
C75: от тях за:
C76: Персонал | D76: 294600 | E76: 294600 | F76: 64728
C77: Издръжка | D77: 120300 | E77: 120300 | F77: 44427
C78: Капиталови разходи | D78: 10000 | E78: 10000
C80: II. Администрирани разходни показатели по бюджета | D80: =+SUM(D82:D83) -> 12959600 | E80: =+SUM(E82:E83) -> 12959600 | F80: =+SUM(F82:F83) -> 1720502
C81: от тях за:
C82: Субсидии за нефинансови предприятия на основание ЗФИ - за създаване и разпространение на български филми и коопродукции с българско участие - субсидия за творчески проекти" | D82: 12700000 | E82: 12700000 | F82: 1479700
C83: Разходи за членски внос и участие в нетърговски организации и дейности | D83: 259600 | E83: 259600 | F83: 240802
C85: Общо разходи по бюджета (I+II) | D85: =D80+D74 -> 13384500 | E85: =E80+E74 -> 13384500 | F85: =F80+F74 -> 1829657
C87: Численост на щатния персонал | D87: 14 | E87: 14 | F87: 12
C90: Бюджетна програма „Сценични изкуства“
C91: Разходи по бюджетната програма | D91: Закон 2014/ | E91: Уточнен | F91: Отчет | G91: Отчет | H91: Отчет | I91: Отчет
C92: (в лева) | D92: ПМС № 3 от 2014 г. | E92: План 2014 г. | F92: към | G92: към | H92: към | I92: към
F93: 31март 2014 г. | G93: 30 юни 2014 г. | H93: 30 септември 2014 г. | I93: 31 декември 2014 г.
C94: I. Ведомствени разходи по бюджета | D94: =+SUM(D96:D98) -> 54487100 | E94: =+SUM(E96:E98) -> 54487100 | F94: =+SUM(F96:F98) -> 15778971
C95: от тях за:
C96: Персонал | D96: 31018600 | E96: 31018600 | F96: 11760358
C97: Издръжка | D97: 21494800 | E97: 21494800 | F97: 3944494
C98: Капиталови разходи | D98: 1973700 | E98: 1973700 | F98: 74119
C100: II. Администрирани разходни показатели по бюджета | D100: =+SUM(D102:D105) -> 1057800 | E100: =+SUM(E102:E105) -> 1057800 | F100: =+SUM(F102:F105) -> 39649
C101: от тях за:
C102: Субсидии за нефинансови предприятия основание ЗЗРК - за финансово подпомагане създаването и разпространението на сценични произведения -субсидия за творчески проекти | F102: 10910
C103: Субсидии за организации с нестопанска цел на основание ЗЗРК - за финансово подпомагане създаването и разпространението на сценични произведения -субсидия за творчески проекти | F103: 28064
C104: Разходи за членски внос и участие в нетърговски организации и дейности | D104: 7800 | E104: 7800 | F104: 675
C105: Разходи за издръжка на основание ЗЗРК - за финансово подпомагане създаването и разпространението на сценични произведения -субсидия за творчески проекти | D105: 1050000 | E105: 1050000
C107: Общо разходи по бюджета (I+II) | D107: =+D94+D100 -> 55544900 | E107: =+E94+E100 -> 55544900 | F107: =+F94+F100 -> 15818620
C109: Численост на щатния персонал | D109: 3896 | E109: 3896 | F109: 4147
C112: Бюджетна програма „Фестивали, конкурси, събития и чествания“
C113: Разходи по бюджетната програма | D113: Закон 2014/ | E113: Уточнен | F113: Отчет | G113: Отчет | H113: Отчет | I113: Отчет
C114: (в лева) | D114: ПМС № 3 от 2014 г. | E114: План 2014 г. | F114: към | G114: към | H114: към | I114: към
F115: 31март 2014 г. | G115: 30 юни 2014 г. | H115: 30 септември 2014 г. | I115: 31 декември 2014 г.
C116: I. Ведомствени разходи по бюджета | D116: =+SUM(D118:D120) -> 140000 | E116: =+SUM(E118:E120) -> 140000 | F116: =+SUM(F118:F120) -> 18829
C117: от тях за:
C118: Персонал | F118: 15000
C119: Издръжка | D119: 140000 | E119: 140000 | F119: 3829
C120: Капиталови разходи
C122: II. Администрирани разходни показатели по бюджета | D122: =+SUM(D124:D125) -> 0 | E122: =+SUM(E124:E125) -> 247000 | F122: =+SUM(F124:F125) -> 80000
C123: от тях за:
C124: Субсидии за нефинансови предприятия | F124: 80000
C125: Честване на 100-годишнината от рождението на Борис Христов - ПМС 56/2014 г. | E125: 247000
C127: Общо разходи по бюджета (I+II) | D127: =+D116+D122 -> 140000 | E127: =+E116+E122 -> 387000 | F127: =+F116+F122 -> 98829
C129: Численост на щатния персонал
C132: Бюджетна програма „Гарантиране защита на интелектуалната собственост“
C133: Разходи по бюджетната програма | D133: Закон 2014/ | E133: Уточнен | F133: Отчет | G133: Отчет | H133: Отчет | I133: Отчет
C134: (в лева) | D134: ПМС № 3 от 2014 г. | E134: План 2014 г. | F134: към | G134: към | H134: към | I134: към
...
